BEGIN:VCALENDAR
VERSION:2.0
PRODID:-//ChamberMaster//Event Calendar 2.0//EN
METHOD:PUBLISH
X-PUBLISHED-TTL:P3D
REFRESH-INTERVAL:P3D
CALSCALE:GREGORIAN
BEGIN:VEVENT
DTSTART:20150207T020000Z
DTEND:20150207T060000Z
X-MICROSOFT-CDO-ALLDAYEVENT:FALSE
SUMMARY:YWCA Hosts 23rd Annual Chocolate Fantasy Event: A Toast to Excellence
DESCRIPTION:Save the date! The YWCA of North Orange County presents the 23rd Annual Chocolate Fantasy event: A Toast to Excellence\, on Friday\, Febuary 6\, 2015. This event will take place at Los Coyotes Country Club\, 8888 Los Coyotes Drive\, Buena Park.\n\n\n\nYWCA is applauding their "sheroes" and heros:\n\n	Theresa Harvey - Business Leader of the Year: CEO\, Fullerton Chamber of Commerce\n	Jack Franklin - Man of the Year: Owner\, Roscoe's Famous Deli\n	Joann Weatherby - Woman of the Year: Philanthropist\n	Patty Moutin - Health Advocate of the Year: VP of Advocacy and Outreach for the Alzheimer's Assn.of OC\n\nDress is business/cocktail and there will be a VIP reception at 5 p.m.
X-ALT-DESC;FMTTYPE=text/html:Save the date! The YWCA of North Orange County presents the 23rd Annual Chocolate Fantasy event: A Toast to Excellence\, on Friday\, Febuary 6\, 2015. This event will take place at Los Coyotes Country Club\, 8888 Los Coyotes Drive\, Buena Park.<br />\n<br />\nYWCA is applauding their &quot\;sheroes&quot\; and heros:\n<ul>\n	<li>Theresa Harvey - Business Leader of the Year: CEO\, Fullerton Chamber of Commerce</li>\n	<li>Jack Franklin - Man of the Year: Owner\, Roscoe&#39\;s Famous Deli</li>\n	<li>Joann Weatherby - Woman of the Year: Philanthropist</li>\n	<li>Patty Moutin - Health Advocate of the Year: VP of Advocacy and Outreach for the Alzheimer&#39\;s Assn.of OC</li>\n</ul>\nDress is business/cocktail and there will be a VIP reception at 5 p.m.
LOCATION:Los Coyotes Country Club\, 8888 Los Coyotes Dr.\, Buena Park
UID:e.887.10216
SEQUENCE:3
DTSTAMP:20260425T014312Z
URL:https://nocchamber-gzcms.preview.gochambermaster.com/events/details/ywca-hosts-23rd-annual-chocolate-fantasy-event-a-toast-to-excellence-10216
END:VEVENT

END:VCALENDAR
