BEGIN:VCALENDAR
VERSION:2.0
PRODID:-//ChamberMaster//Event Calendar 2.0//EN
METHOD:PUBLISH
X-PUBLISHED-TTL:P3D
REFRESH-INTERVAL:P3D
CALSCALE:GREGORIAN
BEGIN:VEVENT
DTSTART:20170211T193000Z
DTEND:20170211T223000Z
X-MICROSOFT-CDO-ALLDAYEVENT:FALSE
SUMMARY:Yoshiharu Ramen's Grand Opening at The Source
DESCRIPTION:Join Yoshiharu Ramen's Grand Opening celebrations at The Source on Saturday\, February 11\, including their Fire Ramen Eating Contest from 11:30 a.m.- 2:30 p.m.\n\nContestants are selected at random from a raffle drawing\, and everyone is welcome to enter for a chance to compete.\n\nContest prizes include an Apple iPad Pro\, iPad Air 2\, and an Apple Watch Series 2.\n\nYoshiharu Ramen -  Regular Business Hours\n\nMonday - Sunday\n\n 11:00 a.m.- 3:00 p.m.& 5:00 p.m.- 10:00 p.m.
X-ALT-DESC;FMTTYPE=text/html:<p>Join Yoshiharu Ramen&#39\;s Grand Opening celebrations at The Source on Saturday\, February 11\, including their Fire Ramen Eating Contest from 11:30 a.m.- 2:30 p.m.</p>\n\n<p>Contestants are selected at random from a raffle drawing\, and everyone is welcome to enter for a chance to compete.</p>\n\n<p>Contest prizes include an Apple iPad Pro\, iPad Air 2\, and an Apple Watch Series 2.</p>\n\n<p>Yoshiharu Ramen -&nbsp\; Regular Business Hours<br />\nMonday - Sunday<br />\n&#8203\;11:00 a.m.- 3:00 p.m.&amp\; 5:00 p.m.- 10:00 p.m.</p>\n
LOCATION:Yoshiharu Ramen's The Source Mall OC 6970 Beach Blvd.\, F-206 Buena Park\, CA 90621
UID:e.887.15661
SEQUENCE:3
DTSTAMP:20260421T204232Z
URL:https://nocchamber-gzcms.preview.gochambermaster.com/events/details/yoshiharu-ramen-s-grand-opening-at-the-source-15661
END:VEVENT

END:VCALENDAR
