BEGIN:VCALENDAR
VERSION:2.0
PRODID:-//ChamberMaster//Event Calendar 2.0//EN
METHOD:PUBLISH
X-PUBLISHED-TTL:P3D
REFRESH-INTERVAL:P3D
CALSCALE:GREGORIAN
BEGIN:VEVENT
DTSTART:20161202T020000Z
DTEND:20161202T050000Z
X-MICROSOFT-CDO-ALLDAYEVENT:FALSE
SUMMARY:Women in International Trade Annual Charity Event
DESCRIPTION:Join Women in International Trade of Orange County for an evening with colleagues & friends as they welcome the holidays with the smooth sounds of Dean Grech. Learn the Do's and Don'ts of installing an export compliant atmosphere.
X-ALT-DESC;FMTTYPE=text/html:Join Women in International Trade of Orange County for an evening with colleagues &amp\; friends as they welcome the holidays with the smooth sounds of Dean Grech. Learn the Do&#39\;s and Don&#39\;ts of installing an export compliant atmosphere.&nbsp\;
LOCATION:Avenue of the Arts Hotel 3350 Avenue of the Arts\, Costa Mesa\, 92626
UID:e.887.15524
SEQUENCE:3
DTSTAMP:20260421T235819Z
URL:https://nocchamber-gzcms.preview.gochambermaster.com/events/details/women-in-international-trade-annual-charity-event-15524
END:VEVENT

END:VCALENDAR
