BEGIN:VCALENDAR
VERSION:2.0
PRODID:-//ChamberMaster//Event Calendar 2.0//EN
METHOD:PUBLISH
X-PUBLISHED-TTL:P3D
REFRESH-INTERVAL:P3D
CALSCALE:GREGORIAN
BEGIN:VEVENT
DTSTART:20160114T200500Z
DTEND:20160114T210000Z
X-MICROSOFT-CDO-ALLDAYEVENT:FALSE
SUMMARY:What Makes A Good Business Idea?
DESCRIPTION:What makes a business idea viable\, and how do you turn your ideas into a revenue-generating reality?  The purpose of this Webinar is to help you orient properly and powerfully from the moment you commit to pursuing a small business venture. Even with the best advice and support no one is guaranteed success. However\, there are a number of practices and structures that must be in place in order to increase your likelihood of making it in business. \n\n \n\nYou will learn the essential elements of a "good" business idea and get a checklist for turning a business idea into a revenue-generating reality. Ernest Stambouly\, is presenting. Ernest is a small business owner of corporate technology consulting services\, executive coach\, and author.\n\nhttp://www.irvinechambereconomicdevelopment.com/irvine/webinars/?cat=webinar&v=list
X-ALT-DESC;FMTTYPE=text/html:<span style="color:#001A81\;"><span style="font-family:tahoma\,sans-serif\;">What makes a business idea viable\, and how do you turn your ideas into a revenue-generating reality? &nbsp\;The purpose of this Webinar is to help you orient properly and powerfully from the moment you commit to pursuing a small business venture. Even with the best advice and support no one is guaranteed success. However\, there are a number of practices and structures that must be in place in order to increase your likelihood of making it in business.&nbsp\;</span></span><br />\n&nbsp\;<br />\n<span style="color:#001A81\;"><span style="font-family:tahoma\,sans-serif\;">You will learn the essential elements of a &quot\;good&quot\; business idea and get a checklist for turning a business idea into a revenue-generating reality. <strong>Ernest Stambouly</strong>\, is presenting. Ernest is a small business owner of corporate technology consulting services\, executive coach\, and author.</span></span><br />\n<a href="http://www.irvinechambereconomicdevelopment.com/irvine/webinars/?cat=webinar&amp\;v=list">http://www.irvinechambereconomicdevelopment.com/irvine/webinars/?cat=webinar&amp\;v=list</a>
LOCATION:Online Webinar
UID:e.887.13070
SEQUENCE:3
DTSTAMP:20260423T233306Z
URL:https://nocchamber-gzcms.preview.gochambermaster.com/events/details/what-makes-a-good-business-idea-13070
END:VEVENT

END:VCALENDAR
