BEGIN:VCALENDAR
VERSION:2.0
PRODID:-//ChamberMaster//Event Calendar 2.0//EN
METHOD:PUBLISH
X-PUBLISHED-TTL:P3D
REFRESH-INTERVAL:P3D
CALSCALE:GREGORIAN
BEGIN:VEVENT
DTSTART:20140301T020000Z
DTEND:20140301T060000Z
X-MICROSOFT-CDO-ALLDAYEVENT:FALSE
SUMMARY:Wedding Show Weekend Kick off Event
DESCRIPTION:Come to an exclusive Wedding Show Weekend Kick off Event! Meet privately with hand picked vendors and experience a live event! Taste Hors d' oeuvres and enjoy!
X-ALT-DESC;FMTTYPE=text/html:Come to an exclusive Wedding Show Weekend Kick off Event! Meet privately with hand picked vendors and experience a live event! Taste Hors d&#39\; oeuvres and enjoy!
LOCATION:Coyote Hills Golf Course
UID:e.887.8660
SEQUENCE:3
DTSTAMP:20260426T000613Z
URL:https://nocchamber-gzcms.preview.gochambermaster.com/events/details/wedding-show-weekend-kick-off-event-8660
END:VEVENT

END:VCALENDAR
