BEGIN:VCALENDAR
VERSION:2.0
PRODID:-//ChamberMaster//Event Calendar 2.0//EN
METHOD:PUBLISH
X-PUBLISHED-TTL:P3D
REFRESH-INTERVAL:P3D
CALSCALE:GREGORIAN
BEGIN:VEVENT
DTSTART:20150628T190000Z
DTEND:20150628T210000Z
X-MICROSOFT-CDO-ALLDAYEVENT:FALSE
SUMMARY:Wedding Open House
DESCRIPTION:Join us for a Wedding Open House on Sunday\, June 28 from 12-2pm at the Richard Nixon Library.\n\n\n\nExperience the Library's beautiful rose garden and breathtaking East Room that play host to the finest weddings in Orange County\, during the rare and wonderful opportunity. Enjoy appetizers from some of Orange County's finest caterers\, try some savory sweets and champagne and be wowed by some amazing table top designs for the area's best floral designers. Get inspired by the latest wedding trends\, exotic florals\, luxury linens\, and more!\n\n\n\nThis is an event you don't want to miss.\n\n\n\nMust register to attend\, space is limited. \n\n\n\nFor more information visit\, CLICK HERE.
X-ALT-DESC;FMTTYPE=text/html:Join us for a Wedding Open House on Sunday\, June 28&nbsp\;from 12-2pm at the Richard Nixon Library.<br />\n<br />\nExperience the Library&#39\;s beautiful rose garden and breathtaking East Room that play host to the finest weddings in Orange County\, during the rare and wonderful opportunity. Enjoy appetizers from some of Orange County&#39\;s finest caterers\, try some savory sweets and champagne and be wowed by some amazing table top designs for the area&#39\;s best floral designers. Get inspired by the latest wedding trends\, exotic florals\, luxury linens\, and more!<br />\n<br />\nThis is an event you don&#39\;t want to miss.<br />\n<br />\nMust register to attend\, space is limited.&nbsp\;<br />\n<br />\nFor more information visit\, <a href="http://nixonfoundation.org/open-house.php">CLICK HERE</a>.
LOCATION:The Richard Nixon Library 18001 Yorba Linda Blvd\, Yorba Linda CA 92886
UID:e.887.11213
SEQUENCE:3
DTSTAMP:20260424T190912Z
URL:https://nocchamber-gzcms.preview.gochambermaster.com/events/details/wedding-open-house-11213
END:VEVENT

END:VCALENDAR
