BEGIN:VCALENDAR
VERSION:2.0
PRODID:-//ChamberMaster//Event Calendar 2.0//EN
METHOD:PUBLISH
X-PUBLISHED-TTL:P3D
REFRESH-INTERVAL:P3D
CALSCALE:GREGORIAN
BEGIN:VEVENT
DTSTART:20180227T163000Z
DTEND:20180227T173000Z
X-MICROSOFT-CDO-ALLDAYEVENT:FALSE
SUMMARY:"Wake Up Fullerton" with Council Member Jennifer Fitzgerald
DESCRIPTION:Wake Up Fullerton is an opportunity for you to network with local business leaders and hear from Council Member Jennifer Fitzgerald on what's happening in our community. Join us for your morning coffee and pastry and "Wake Up" with us!
X-ALT-DESC;FMTTYPE=text/html:<em style="margin: 0px\; padding: 0px\; border: none\; font-variant-numeric: inherit\; font-variant-east-asian: inherit\; font-stretch: inherit\; font-size: 14px\; line-height: inherit\; font-family: Arial\, Helvetica\, sans-serif\; vertical-align: baseline\; bottom: auto\; box-sizing: content-box\; clear: none\; color: rgb(68\, 68\, 68)\; content: normal\; direction: inherit\; display: inline\; empty-cells: show\; float: none\; left: auto\; max-height: none\; max-width: none\; min-height: initial\; min-width: initial\; opacity: 1\; outline-offset: 0px\; overflow: visible\; position: static\; resize: none\; right: auto\; table-layout: auto\; text-overflow: clip\; top: auto\; visibility: inherit\; word-break: inherit\; word-wrap: inherit\; z-index: auto\; background-image: none\; background-position: initial\; background-size: initial\; background-repeat: initial\; background-attachment: initial\; background-origin: initial\; background-clip: initial\; border-collapse: separate\; border-radius: 0px\; height: auto\; width: auto\; box-shadow: none\;">Wake Up Fullerton</em><span style="color: rgb(68\, 68\, 68)\; font-family: Arial\, Helvetica\, sans-serif\; font-size: 14px\;">&nbsp\;is an opportunity for you to network with local business leaders and hear from Council Member&nbsp\;Jennifer Fitzgerald on what&#39\;s happening in our community. Join us for your morning coffee and pastry and &quot\;Wake Up&quot\; with us!</span>
LOCATION:Classic Rock Coffee 1015 N. Harbor Blvd. Fullerton\, CA 92832
UID:e.887.17494
SEQUENCE:3
DTSTAMP:20260421T205251Z
URL:https://nocchamber-gzcms.preview.gochambermaster.com/events/details/wake-up-fullerton-with-council-member-jennifer-fitzgerald-17494
END:VEVENT

END:VCALENDAR
