BEGIN:VCALENDAR
VERSION:2.0
PRODID:-//ChamberMaster//Event Calendar 2.0//EN
METHOD:PUBLISH
X-PUBLISHED-TTL:P3D
REFRESH-INTERVAL:P3D
CALSCALE:GREGORIAN
BEGIN:VEVENT
DTSTART:20181003T150000Z
DTEND:20181003T160000Z
X-MICROSOFT-CDO-ALLDAYEVENT:FALSE
SUMMARY:Wake Up Buena Park with Mayor Virginia Vaughn
DESCRIPTION:Wake Up Buena Park is an opportunity for you to network with local business leaders and hear from Mayor Virginia Vaughn on what's happening in our community. Mayor Vaughn will be joined by Buena Park Police Department Captain Worrall and City Manager Jim Vanderpool. Join us for your morning coffee and pastry and Wake Up with us!
X-ALT-DESC;FMTTYPE=text/html:<em><span style="font-family:arial\,sans-serif\;"><span style="font-size:10pt\;">Wake Up Buena Park</span></span></em><span style="background-image:initial\;background-position:initial\;background-size:initial\;background-repeat:initial\;background-attachment:initial\;background-origin:initial\;background-clip:initial\;"><span style="font-family:arial\,sans-serif\;"><span style="font-size:10pt\;">&nbsp\;is an opportunity for you to network with local business leaders and hear from Mayor Virginia Vaughn on what&rsquo\;s happening in our community. Mayor Vaughn will be joined by Buena Park Police Department Captain Worrall and City Manager Jim Vanderpool. Join us for your morning coffee and pastry and Wake Up with us!</span></span></span>
LOCATION:Speech and Language Development Center 8699 Holder St. Buena Park\, CA 90620
UID:e.887.22638
SEQUENCE:3
DTSTAMP:20260422T221425Z
URL:https://nocchamber-gzcms.preview.gochambermaster.com/events/details/wake-up-buena-park-with-mayor-virginia-vaughn-22638
END:VEVENT

END:VCALENDAR
