BEGIN:VCALENDAR
VERSION:2.0
PRODID:-//ChamberMaster//Event Calendar 2.0//EN
METHOD:PUBLISH
X-PUBLISHED-TTL:P3D
REFRESH-INTERVAL:P3D
CALSCALE:GREGORIAN
BEGIN:VEVENT
DTSTART:20180607T143000Z
DTEND:20180607T153000Z
X-MICROSOFT-CDO-ALLDAYEVENT:FALSE
SUMMARY:Wake Up Buena Park with Mayor Virginia Vaughn
DESCRIPTION:Wake Up Buena Park is an opportunity for you to network with local community leaders on what's happening in Buena Park.\n\n \n\nMayor Vaughn will be joined by Buena Park Police Department Captains Hendricks and Worrall.  \n\n\n\n"Join us for your morning coffee and participate in our discussion on community safety best practices for residents and businesses in Buena Park." \n\n- Mayor\, Virginia Vaughn
X-ALT-DESC;FMTTYPE=text/html:<em><span style="color:#444444\;"><span style="font-family:arial\,sans-serif\;"><span style="font-size:9.0pt\;">Wake Up Buena Park</span></span></span></em><span style="color:#444444\;"><span style="font-family:arial\,sans-serif\;"><span style="font-size:9.0pt\;"> is an opportunity for you to network with local community leaders on what&#39\;s happening in Buena Park.</span></span></span><br />\n&nbsp\;<br />\n<span style="color:#403F42\;"><span style="font-family:arial\,sans-serif\;"><span style="font-size:9.0pt\;">Mayor Vaughn will be joined by Buena Park Police Department Captains Hendricks and Worrall.&nbsp\;</span></span></span>&nbsp\;<br />\n<br />\n&quot\;Join us for your morning coffee and participate in our discussion on community safety best practices for residents and businesses in Buena Park.&quot\;&nbsp\;<br />\n- <strong>Mayor\, Virginia Vaughn&nbsp\;</strong>&nbsp\;&nbsp\;&nbsp\;
LOCATION:Premier Chrysler Dodge Jeep Ram of Buena Park 7301 Artesia Blvd. Buena Park\, CA 90621
UID:e.887.21465
SEQUENCE:3
DTSTAMP:20260422T063023Z
URL:https://nocchamber-gzcms.preview.gochambermaster.com/events/details/wake-up-buena-park-with-mayor-virginia-vaughn-21465
END:VEVENT

END:VCALENDAR
