BEGIN:VCALENDAR
VERSION:2.0
PRODID:-//ChamberMaster//Event Calendar 2.0//EN
METHOD:PUBLISH
X-PUBLISHED-TTL:P3D
REFRESH-INTERVAL:P3D
CALSCALE:GREGORIAN
BEGIN:VEVENT
DTSTART:20180205T160000Z
DTEND:20180205T170000Z
X-MICROSOFT-CDO-ALLDAYEVENT:FALSE
SUMMARY:"Wake Up Buena Park" with Mayor Virginia Vaughn
DESCRIPTION:Wake Up Buena Park is an opportunity for you to network with local business leaders and hear from Mayor Virginia Vaughn on what's happening in our community. This month she will be joined by Police Chief Corey Sianez. Together\, they will be addressing community safety concerns.\n\n\n\nJoin us for your morning coffee and pastry and "Wake Up" with us!
X-ALT-DESC;FMTTYPE=text/html:<i>Wake Up Buena Park </i>is an opportunity for you to network with local business leaders and hear from Mayor Virginia Vaughn on what&#39\;s happening in our community. This month she will be joined by Police Chief Corey Sianez. Together\, they will be addressing community safety concerns.<br />\n<br />\nJoin us for your morning coffee and pastry and &quot\;Wake Up&quot\; with us!
LOCATION:Seventh Home Coffee & Tea House 6291 Homewood Ave. Buena Park\, CA 90621
UID:e.887.17498
SEQUENCE:3
DTSTAMP:20260421T205316Z
URL:https://nocchamber-gzcms.preview.gochambermaster.com/events/details/wake-up-buena-park-with-mayor-virginia-vaughn-17498
END:VEVENT

END:VCALENDAR
