BEGIN:VCALENDAR
VERSION:2.0
PRODID:-//ChamberMaster//Event Calendar 2.0//EN
METHOD:PUBLISH
X-PUBLISHED-TTL:P3D
REFRESH-INTERVAL:P3D
CALSCALE:GREGORIAN
BEGIN:VEVENT
DTSTART:20161112T020000Z
DTEND:20161112T060000Z
X-MICROSOFT-CDO-ALLDAYEVENT:FALSE
SUMMARY:Vino Nostra Two Year Anniversary
DESCRIPTION:Vino Nostra Bar in Fullerton is hosting an open house for anyone who would like to celebrate their Two Year Anniversary. Complimentary appetizers will be served while supplies last. Patty's Cupcakes and Matador Cantina Tacos will be catering the event. Attendees will receive a free raffle ticket and be able to participate in raffles throughout the night.
X-ALT-DESC;FMTTYPE=text/html:Vino Nostra&nbsp\;Bar in Fullerton is hosting an open house for anyone who would like to celebrate their Two Year Anniversary. Complimentary appetizers will be served while supplies last. Patty&#39\;s Cupcakes and Matador Cantina Tacos will be catering the event. Attendees will receive a free raffle ticket and be able to participate in raffles throughout the night. &nbsp\;
LOCATION:Vino Nostra 123 E. Commonwealth Ave. Fullerton\, CA 92832
UID:e.887.15518
SEQUENCE:3
DTSTAMP:20260422T013912Z
URL:https://nocchamber-gzcms.preview.gochambermaster.com/events/details/vino-nostra-two-year-anniversary-15518
END:VEVENT

END:VCALENDAR
