BEGIN:VCALENDAR
VERSION:2.0
PRODID:-//ChamberMaster//Event Calendar 2.0//EN
METHOD:PUBLISH
X-PUBLISHED-TTL:P3D
REFRESH-INTERVAL:P3D
CALSCALE:GREGORIAN
BEGIN:VEVENT
DTSTART:20180904T230000Z
DTEND:20180905T050000Z
X-MICROSOFT-CDO-ALLDAYEVENT:FALSE
SUMMARY:Vino Nostra & Matador Cantina - Tasting & Tacos Tuesday's
DESCRIPTION:Vino Nostra will be collaborating with Matador Cantina for "Wine Tasting Tuesday's" and "Tacos by Matador Cantina" event. \n\n\n\n$20 Wine Flight\n\n	2016 Crios Torrentes\, Mendoza\, Argentina\n	2016 Crios Malbec\, Mendoza\, Argentina\n	2013 Finca Mara  n\,Rioja\, Spain\n	2013 Gerard Bertrand Cap Insula (GSM)\, Landuedoc\, France
X-ALT-DESC;FMTTYPE=text/html:Vino Nostra will be collaborating with Matador Cantina for &quot\;Wine Tasting Tuesday&#39\;s&quot\; and &quot\;Tacos by Matador Cantina&quot\; event.&nbsp\;<br />\n<br />\n$20 Wine Flight\n<ul>\n	<li>2016 Crios&nbsp\;Torrentes\, Mendoza\, Argentina</li>\n	<li>2016 Crios Malbec\, Mendoza\,&nbsp\;Argentina</li>\n	<li>2013 Finca Mara&ntilde\;&oacute\;n\,Rioja\, Spain</li>\n	<li>2013 Gerard Bertrand Cap Insula&nbsp\;(GSM)\, Landuedoc\, France</li>\n</ul>\n
LOCATION:Vino Nostra 123 E. Commonwealth Ave. Fullerton\, CA 92832
UID:e.887.22666
SEQUENCE:3
DTSTAMP:20260422T225342Z
URL:https://nocchamber-gzcms.preview.gochambermaster.com/events/details/vino-nostra-matador-cantina-tasting-tacos-tuesday-s-22666
END:VEVENT

END:VCALENDAR
