BEGIN:VCALENDAR
VERSION:2.0
PRODID:-//ChamberMaster//Event Calendar 2.0//EN
METHOD:PUBLISH
X-PUBLISHED-TTL:P3D
REFRESH-INTERVAL:P3D
CALSCALE:GREGORIAN
BEGIN:VEVENT
DTSTART:20160719T183000Z
DTEND:20160719T193000Z
X-MICROSOFT-CDO-ALLDAYEVENT:FALSE
SUMMARY:Ventana Fullerton - Ribbon Cutting
DESCRIPTION:Join us as we celebrate the grand opening of Ventana\, senior rental community\, in Fullerton.
X-ALT-DESC;FMTTYPE=text/html:Join us as we celebrate the grand opening of&nbsp\;Ventana\, senior rental community\, in Fullerton.
LOCATION:345 E. Commonwealth Ave. Fullerton\, CA 92832
UID:e.887.14604
SEQUENCE:3
DTSTAMP:20260423T003516Z
URL:https://nocchamber-gzcms.preview.gochambermaster.com/events/details/ventana-fullerton-ribbon-cutting-14604
END:VEVENT

END:VCALENDAR
