BEGIN:VCALENDAR
VERSION:2.0
PRODID:-//ChamberMaster//Event Calendar 2.0//EN
METHOD:PUBLISH
X-PUBLISHED-TTL:P3D
REFRESH-INTERVAL:P3D
CALSCALE:GREGORIAN
BEGIN:VEVENT
DTSTART:20150731T010000Z
DTEND:20150731T040000Z
X-MICROSOFT-CDO-ALLDAYEVENT:FALSE
SUMMARY:Using Email Marketing to Build Your Business (Plus Bonus: Ideas to Grow Your List)
DESCRIPTION:At the heart of small business marketing are the campaigns that drive action   collections of marketing activities that help a small business or organization to achieve its goals and objectives. Newsletters and Announcements have become a core component of those campaign choices. Email is more important than ever   to the communication efforts of businesses and nonprofits everywhere\; and to the customer\, donor\, client or supporter of those organizations. This session will reveal some simple but effective best practices and considerations for the small business or nonprofit seeking to make their email newsletters more effective.\n\n\n\nIn this introductory session\, we will also review best practices\, strategies\, real world examples and offer ideas to show you how Email Marketing is a cost effective marketing tool that can bring results and help you stay top-of-mind with those that matter most to your business.\n\n\n\nWe will look at:\n\n  What is Email Marketing and why it is an important tool to help promote your business\n\n  Real world examples\, see what others are doing and get ideas for your next campaign\n\n  Ideas for content and message strategy\n\n  How Email Marketing can be used as a simple e-commerce solution\n\n  Scheduling strategies to find your sweet spot\n\n  Subject lines that capture attention\n\n  Response and engagement\n\n  Time for brainstorming ideas for your next campaign\n\n  Reaching the audience that matters\n\n  How to extend the reach of your campaigns\n\n  The importance of understanding how connected email and social media are they have to be done together.\n\n  What types of additional tools might be useful\n\n\n\nJoin us and learn some great new strategies to help your email and social media efforts be more effective components of one of the core campaign types\, newsletters and announcements.\n\n\n\nPlus we will look at ways to grow your list.\n\n\n\nMJ Finstrom & David Finstrom\, a sister-brother team of HUTdogs\, a creative services business\, present this workshop. They constantly study the ever-evolving nature of social media and have a knack for walking clients through the steps needed to feel comfortable with the full range of on-line social media tools\, especially seasoned business owners who don't quite know where to start or what to do. They teach businesses and nonprofits how to master the basics of online social media marketing tools. Their teaching style focuses on both the strategy and the "how to" of using today's marketing tools. They are talented\, inspired leaders in Facebook and Constant Contact training. Their real world experience as small business owners is key to their effectiveness in teaching others. They have made presentations to thousands of attendees at various events throughout Southern California.\n\n\n\n(Registration/Check-in 5:30 to 6:00 PM)
X-ALT-DESC;FMTTYPE=text/html:<span>At the heart of small business marketing are the campaigns that drive action &ndash\; collections of marketing activities that help a small business or organization to achieve its goals and objectives. Newsletters and Announcements have become a core component of those campaign choices. Email is more important than ever &ndash\; to the communication efforts of businesses and nonprofits everywhere\; and to the customer\, donor\, client or supporter of those organizations. This session will reveal some simple but effective best practices and considerations for the small business or nonprofit seeking to make their email newsletters more effective.<br />\n<br />\nIn this introductory session\, we will also review best practices\, strategies\, real world examples and offer ideas to show you how Email Marketing is a cost effective marketing tool that can bring results and help you stay top-of-mind with those that matter most to your business.<br />\n<br />\nWe will look at:<br />\n&bull\; What is Email Marketing and why it is an important tool to help promote your business<br />\n&bull\; Real world examples\, see what others are doing and get ideas for your next campaign<br />\n&bull\; Ideas for content and message strategy<br />\n&bull\; How Email Marketing can be used as a simple e-commerce solution<br />\n&bull\; Scheduling strategies to find your sweet spot<br />\n&bull\; Subject lines that capture attention<br />\n&bull\; Response and engagement<br />\n&bull\; Time for brainstorming ideas for your next campaign<br />\n&bull\; Reaching the audience that matters<br />\n&bull\; How to extend the reach of your campaigns<br />\n&bull\; The importance of understanding how connected email and social media are&hellip\;they have to be done together.<br />\n&bull\; What types of additional tools might be useful<br />\n<br />\nJoin us and learn some great new strategies to help your email and social media efforts be more effective components of one of the core campaign types\, newsletters and announcements.<br />\n<br />\nPlus we will look at ways to grow your list.<br />\n<br />\nMJ Finstrom &amp\; David Finstrom\, a sister-brother team of HUTdogs\, a creative services business\, present this workshop. They constantly study the ever-evolving nature of social media and have a knack for walking clients through the steps needed to feel comfortable with the full range of on-line social media tools\, especially seasoned business owners who don&#39\;t quite know where to start or what to do. They teach businesses and nonprofits how to master the basics of online social media marketing tools. Their teaching style focuses on both the strategy and the &quot\;how to&quot\; of using today&#39\;s marketing tools. They are talented\, inspired leaders in Facebook and Constant Contact training. Their real world experience as small business owners is key to their effectiveness in teaching others. They have made presentations to thousands of attendees at various events throughout Southern California.<br />\n<br />\n(Registration/Check-in 5:30 to 6:00 PM) </span>
LOCATION:Digital Media Center 1300 South Bristol Santa Ana\, CA 92704
UID:e.887.11896
SEQUENCE:3
DTSTAMP:20260424T085209Z
URL:https://nocchamber-gzcms.preview.gochambermaster.com/events/details/using-email-marketing-to-build-your-business-plus-bonus-ideas-to-grow-your-list-11896
END:VEVENT

END:VCALENDAR
