BEGIN:VCALENDAR
VERSION:2.0
PRODID:-//ChamberMaster//Event Calendar 2.0//EN
METHOD:PUBLISH
X-PUBLISHED-TTL:P3D
REFRESH-INTERVAL:P3D
CALSCALE:GREGORIAN
BEGIN:VEVENT
DTSTART:20140410T220000Z
DTEND:20140410T230000Z
X-MICROSOFT-CDO-ALLDAYEVENT:FALSE
SUMMARY:URGENT CARE - Ribbon Cutting !!!
DESCRIPTION:URGENT CARE - NOW OPEN\n\n\n\nCome Join us Thursday April 10 at 3.00 PM for our Ribbon Cutting !!!\n\n \n\n1440 N. Harbor Boulevard\, Suite # 100\n\nFullerton\, CA\n\n\n\nIt has been a pleasure serving the extended Fullerton community since our opening March 1st of this Year
X-ALT-DESC;FMTTYPE=text/html:<div style="text-align: center\;"><span style="font-size: 20px\;"><span style="font-family: verdana\;"><span style="color: rgb(0\, 0\, 128)\;"><u><strong><span style="font-size: 24px\;">URGENT CARE - NOW OPEN</span><br />\n<br />\n<em>Come Join us Thursday April 10 at 3.00 PM for our Ribbon Cutting !!!</em></strong></u></span></span></span><br />\n&nbsp\;</div>\n\n<div style="text-align: center\;"><span style="font-size: 20px\;"><span style="font-family: verdana\;"><span style="color: rgb(0\, 0\, 128)\;"><u><strong><em>1440 N. Harbor Boulevard\, Suite # 100<br />\nFullerton\, CA</em></strong></u></span></span></span></div>\n\n<div style="text-align: center\;"><br />\n<span style="font-size: 20px\;"><span style="font-family: verdana\;"><span style="color: rgb(0\, 0\, 128)\;">It has been a pleasure serving the extended Fullerton community since our opening March 1st of this Year</span></span></span></div>\n
LOCATION:1440 N. Harbor Boulevard\, Suite # 100 Fullerton\, CA
UID:e.887.8796
SEQUENCE:3
DTSTAMP:20260425T212419Z
URL:https://nocchamber-gzcms.preview.gochambermaster.com/events/details/urgent-care-ribbon-cutting-8796
END:VEVENT

END:VCALENDAR
