BEGIN:VCALENDAR
VERSION:2.0
PRODID:-//ChamberMaster//Event Calendar 2.0//EN
METHOD:PUBLISH
X-PUBLISHED-TTL:P3D
REFRESH-INTERVAL:P3D
CALSCALE:GREGORIAN
BEGIN:VEVENT
DTSTART:20150424T160000Z
DTEND:20150425T000000Z
X-MICROSOFT-CDO-ALLDAYEVENT:FALSE
SUMMARY:Two Day Sandler Sales Training Boot Camp
DESCRIPTION:Boot Camp - Winning Sales Strategies -  An Integrity Approach to Sales\n\nFor more information contact: Menett Afner Phone: (562) 986-4144
X-ALT-DESC;FMTTYPE=text/html:<a href="http://cloud.chambermaster.com/userfiles/UserFiles/chambers/745/File/SandlerTrainingFlyer.pdf">Boot Camp - Winning Sales Strategies</a>&nbsp\;- &nbsp\;An Integrity Approach to Sales<br />\n<span style="line-height: 16.63px\;">For more information c</span><span style="line-height: 16.63px\;">ontact:&nbsp\;</span>Menett<span style="line-height: 16.63px\;">&nbsp\;</span>Afner<span style="line-height: 16.63px\;">&nbsp\;Phone: (562) 986-4144&nbsp\;</span>
LOCATION:Robert Mayer Board Room Huntington Beach Chamber of Commerce 2134 Main Street\, Suite 100 Huntington Beach\, CA 92648
UID:e.887.11198
SEQUENCE:3
DTSTAMP:20260424T225204Z
URL:https://nocchamber-gzcms.preview.gochambermaster.com/events/details/two-day-sandler-sales-training-boot-camp-04-24-2015-11198
END:VEVENT

END:VCALENDAR
