BEGIN:VCALENDAR
VERSION:2.0
PRODID:-//ChamberMaster//Event Calendar 2.0//EN
METHOD:PUBLISH
X-PUBLISHED-TTL:P3D
REFRESH-INTERVAL:P3D
CALSCALE:GREGORIAN
BEGIN:VEVENT
DTSTART:20171007T233000Z
DTEND:20171008T050000Z
X-MICROSOFT-CDO-ALLDAYEVENT:FALSE
SUMMARY:"Twinkle Twinkle Our Kids are Stars"
DESCRIPTION:Thank you for visiting our Boys & Girls Club Auction site!  We look forward to seeing you on the night of October 7th for "Twinkle Twinkle Our Kids are Stars" annual auction event to raise money for the many programs we run year round for the children of Fullerton.
X-ALT-DESC;FMTTYPE=text/html:<span style="color: rgb(0\, 0\, 0)\; font-family: sans-serif\; font-size: 14px\;">Thank you for visiting our Boys &amp\; Girls Club Auction site!&nbsp\; We look forward to seeing you on the night of October 7th for &quot\;Twinkle Twinkle Our Kids are Stars&quot\; annual auction event to raise money for the many programs we run year round for the children of Fullerton.</span>
LOCATION:Boys & Girls Club/Fullerton Community Center 340 W Commonwealth Ave Fullerton \,California 92832
UID:e.887.17310
SEQUENCE:3
DTSTAMP:20260420T214307Z
URL:https://nocchamber-gzcms.preview.gochambermaster.com/events/details/twinkle-twinkle-our-kids-are-stars-17310
END:VEVENT

END:VCALENDAR
