BEGIN:VCALENDAR
VERSION:2.0
PRODID:-//ChamberMaster//Event Calendar 2.0//EN
METHOD:PUBLISH
X-PUBLISHED-TTL:P3D
REFRESH-INTERVAL:P3D
CALSCALE:GREGORIAN
BEGIN:VEVENT
DTSTART:20180110T180000Z
DTEND:20180110T190000Z
X-MICROSOFT-CDO-ALLDAYEVENT:FALSE
SUMMARY:Turning 65: Understanding Medicare and Health in Aging - Placentia Linda Hospital
DESCRIPTION:Are you turning 65? Do you have questions about your Medicare Policy? Do you have supplemental insurance? These and many other questions about your Medicare plan will be answered by a team of brokers and agents who are here to help you understand your options in 2018. This a free class and refreshments will be served.
X-ALT-DESC;FMTTYPE=text/html:<span style="color: rgb(0\, 0\, 0)\; font-family: &quot\;Open Sans&quot\;\, sans-serif\; font-size: 16px\;">Are you turning 65? Do you have questions about your Medicare Policy? Do you have&nbsp\;</span><span style="color: rgb(0\, 0\, 0)\; font-family: &quot\;Open Sans&quot\;\, sans-serif\; font-size: 16px\;">supplemental insurance? These and many other questions about your Medicare plan will be&nbsp\;</span><span style="color: rgb(0\, 0\, 0)\; font-family: &quot\;Open Sans&quot\;\, sans-serif\; font-size: 16px\;">answered by a team of brokers and agents who are here to help you understand your options in&nbsp\;</span><span style="color: rgb(0\, 0\, 0)\; font-family: &quot\;Open Sans&quot\;\, sans-serif\; font-size: 16px\;">2018. This a free class and refreshments will be served.</span>
LOCATION:Placentia Linda Hospital 1301 N. Rose Dr. Placentia\, CA 92870
UID:e.887.17474
SEQUENCE:3
DTSTAMP:20260421T154319Z
URL:https://nocchamber-gzcms.preview.gochambermaster.com/events/details/turning-65-understanding-medicare-and-health-in-aging-placentia-linda-hospital-17474
END:VEVENT

END:VCALENDAR
