BEGIN:VCALENDAR
VERSION:2.0
PRODID:-//ChamberMaster//Event Calendar 2.0//EN
METHOD:PUBLISH
X-PUBLISHED-TTL:P3D
REFRESH-INTERVAL:P3D
CALSCALE:GREGORIAN
BEGIN:VEVENT
DTSTART:20161029T143000Z
DTEND:20161029T190000Z
X-MICROSOFT-CDO-ALLDAYEVENT:FALSE
SUMMARY:Titan Battalion 10K Ruck-A-Thon & 5k Run/Walk
DESCRIPTION:Ruck-A-Thon to support the CSUF ROTC Titan Battalion.\n\n\n\nRSVP to attend ($25.00)\, sponsor a cadet or make a donation to the ROTC by completing the form below. \n\nIf you have any questions please contact Major Brad Isler at 657-279-2650 or bisler@fullerton.edu
X-ALT-DESC;FMTTYPE=text/html:<p>Ruck-A-Thon to support the CSUF ROTC Titan Battalion.<br />\n<br />\nRSVP to attend ($25.00)\, sponsor a cadet or make a donation to the ROTC by completing the form below.&nbsp\;</p>\n\n<p>If you have any questions please contact Major Brad Isler at 657-279-2650 or&nbsp\;<a href="mailto:bisler@fullerton.edu">bisler@fullerton.edu</a></p>\n
LOCATION:Military Science\, Building MS103 Cal State Fullerton Intramural Fields 800 N State College Blvd. Fullerton\, CA 92831
UID:e.887.15496
SEQUENCE:3
DTSTAMP:20260422T100958Z
URL:https://nocchamber-gzcms.preview.gochambermaster.com/events/details/titan-battalion-10k-ruck-a-thon-5k-run-walk-15496
END:VEVENT

END:VCALENDAR
