BEGIN:VCALENDAR
VERSION:2.0
PRODID:-//ChamberMaster//Event Calendar 2.0//EN
METHOD:PUBLISH
X-PUBLISHED-TTL:P3D
REFRESH-INTERVAL:P3D
CALSCALE:GREGORIAN
BEGIN:VEVENT
DTSTART:20180811T200000Z
DTEND:20180811T230000Z
X-MICROSOFT-CDO-ALLDAYEVENT:FALSE
SUMMARY:The Source OC's Back to School at PlayClub
DESCRIPTION:On Saturday\, August 11\, 2018 from 1:00 p.m. ? 4:00 p.m.\, TheSource will be hosting a Back to School at PlayClub event:\n\n	Science exploration with Jargie the Science Girl\n	Break dancing workshops with WeBreak hip-Hop Dance Company\n	Live painting demonstration Buena Park high School AP Arts Club\n	Games with the Boys & Girls Club of Buena Park\n	Crafts with the Buena Park Library\n\nPlayClub members will receive free Jr. Editor Combo pizza from the Pizza Press by checking in with their membership card at the event.\n\n \n\nThis event is located at the Source OC\, 1st Floor Main Plaza\, 6940 Beach Blvd.\, Buena Park\, CA 90621.
X-ALT-DESC;FMTTYPE=text/html:On Saturday\, August 11\, 2018 from 1:00 p.m. ? 4:00 p.m.\, TheSource will be hosting a <strong>Back to School at PlayClub</strong> event:\n<ul>\n	<li>Science exploration with <strong>Jargie the Science Girl</strong></li>\n	<li>Break dancing workshops with <strong>WeBreak hip-Hop Dance Company</strong></li>\n	<li>Live painting demonstration <strong>Buena Park high School AP Arts Club</strong></li>\n	<li>Games with the <strong>Boys &amp\; Girls Club of Buena Park</strong></li>\n	<li>Crafts with the <strong>Buena Park Library</strong></li>\n</ul>\nPlayClub members will receive<strong> free Jr. Editor Combo pizza </strong>from the <strong>Pizza Press</strong> by checking in with their membership card at the event.<br />\n&nbsp\;<br />\nThis event is located at the Source OC\, 1<sup>st</sup> Floor Main Plaza\, 6940 Beach Blvd.\, Buena Park\, CA 90621.
LOCATION:The Source OC - 1st Floor Main Plaza 6940 Beach Blvd. Buena Park\, CA 90621
UID:e.887.22604
SEQUENCE:3
DTSTAMP:20260422T100907Z
URL:https://nocchamber-gzcms.preview.gochambermaster.com/events/details/the-source-oc-s-back-to-school-at-playclub-22604
END:VEVENT

END:VCALENDAR
