BEGIN:VCALENDAR
VERSION:2.0
PRODID:-//ChamberMaster//Event Calendar 2.0//EN
METHOD:PUBLISH
X-PUBLISHED-TTL:P3D
REFRESH-INTERVAL:P3D
CALSCALE:GREGORIAN
BEGIN:VEVENT
DTSTART:20180215T040000Z
DTEND:20180215T060000Z
X-MICROSOFT-CDO-ALLDAYEVENT:FALSE
SUMMARY:The Source Live
DESCRIPTION:On February 14\, the Source will kick off "The Source Live" concert series\, with a three day concert featuring international hip-hop stars SuperBee\, myunDo\, DooYoung and DJR2\, from the hit Korean TV show "Show Me The Money." The artists will be performing for three days. \n\n\n\nThe Source Live is a new international music series at The Source that will take place all throughout the year.\n\n\n\nThis event is open to all ages. Beer garden available for ages 21+ (must present ID).
X-ALT-DESC;FMTTYPE=text/html:On February 14\, the Source will kick off &quot\;The Source Live&quot\; concert series\, with a three day concert featuring international hip-hop stars&nbsp\;SuperBee\,&nbsp\;myunDo\,&nbsp\;DooYoung&nbsp\;and&nbsp\;DJR2\, from the hit Korean TV show &quot\;Show Me The Money.&quot\; The artists will be performing for three days.&nbsp\;<br />\n<br />\nThe Source Live is a new international music series at The Source that will take place all throughout the year.<br />\n<br />\nThis event is open to all ages. Beer garden available for ages 21+ (must present ID).<br />\n&nbsp\;<br />\n&nbsp\;
LOCATION:The Source 6940 Beach Blvd. Buena Park\, CA 90621 1st Floor Main Plaza.
UID:e.887.17744
SEQUENCE:3
DTSTAMP:20260421T211649Z
URL:https://nocchamber-gzcms.preview.gochambermaster.com/events/details/the-source-live-17744
END:VEVENT

END:VCALENDAR
