BEGIN:VCALENDAR
VERSION:2.0
PRODID:-//ChamberMaster//Event Calendar 2.0//EN
METHOD:PUBLISH
X-PUBLISHED-TTL:P3D
REFRESH-INTERVAL:P3D
CALSCALE:GREGORIAN
BEGIN:VEVENT
DTSTART:20190426T010000Z
DTEND:20190426T034500Z
X-MICROSOFT-CDO-ALLDAYEVENT:FALSE
SUMMARY:The Secrets to Buying a Franchise Workshop - Presented by SCORE
DESCRIPTION:Information to help decide if franchising is the right business opportunity for you. An experienced franchise consultant and franchise attorney will go over the benefits and challenges of owning a franchised business.  Learn how to select and research quality franchises.\n\n\nYou will learn:\n\n* To evaluate starting a franchise vs. an independent business vs. buying an existing business\;\n\n* The best types of franchises for today's economy\;\n\n* The myths about franchising and the mistakes to avoid\; \n\n* How to research a franchise and determine if it's the right choice for you\;\n\n* California laws & legal issues\;\n\n* Insights into legal documents\, e.g. disclosure document and franchise agreement.
X-ALT-DESC;FMTTYPE=text/html:Information to help decide if franchising is the right business opportunity for you. An experienced franchise consultant and franchise attorney will go over the benefits and challenges of owning a franchised business.&nbsp\; Learn how to select and research quality franchises.\n<div helvetica="" segoe="" ui="" vertical-align:="" web="" west="">\n<div>\n<p>You will learn:<br />\n* To evaluate starting a franchise vs. an independent business vs. buying an existing business\;<br />\n* The best types of franchises for today&#39\;s economy\;<br />\n* The myths about franchising and the mistakes to avoid\;&nbsp\;<br />\n* How to research a franchise and determine if it&#39\;s the right choice for you\;<br />\n* California laws &amp\; legal issues\;<br />\n* Insights into legal documents\, e.g. disclosure document and franchise agreement.</p>\n</div>\n</div>\n
LOCATION:Digital Media Center (VM Heard) 1300 S Bristol Santa Ana\, CA 92704
UID:e.887.23265
SEQUENCE:3
DTSTAMP:20260423T225320Z
URL:https://nocchamber-gzcms.preview.gochambermaster.com/events/details/the-secrets-to-buying-a-franchise-workshop-presented-by-score-23265
END:VEVENT

END:VCALENDAR
