BEGIN:VCALENDAR
VERSION:2.0
PRODID:-//ChamberMaster//Event Calendar 2.0//EN
METHOD:PUBLISH
X-PUBLISHED-TTL:P3D
REFRESH-INTERVAL:P3D
CALSCALE:GREGORIAN
BEGIN:VEVENT
DTSTART:20180626T010000Z
DTEND:20180626T034500Z
X-MICROSOFT-CDO-ALLDAYEVENT:FALSE
SUMMARY:The Power of PPC Advertising: Google AdWords in Action
DESCRIPTION:Google AdWords drives targeted\, relevant\, and specific traffic to your website. See how the most powerful advertising tool ever created can generate sales for your business. Get lower costs per lead and higher ROI with PPC advertising.  \n\n \n\nWhat you will learn:\n\n \n\n* How you can attract targeted and relevant traffic to your website in 24 hours\n\n* Why all clicks are not created equal\n\n* Why search marketing is the most powerful tool in your digital arsenal\n\n* Why PPC advertising is more powerful yet complimentary to social media\n\n* How AdWords uses mobile marketing to increase sales\n\n* Why more people buy with PPC ads when looking to purchase online\n\n \n\nStuart Atkins is the owner and founder of Atkins Marketing Solutions\, a digital marketing agency in Orange\, CA. He's a search marketing specialist\, marketing consultant\, author of two books\, speaker\, and Adjunct Professor of Marketing at Cal State Fullerton's Mihaylo College of Business and Economics. He brings over 30 years of marketing experience to every seminar.
X-ALT-DESC;FMTTYPE=text/html:Google AdWords drives targeted\, relevant\, and specific traffic to your website. See how the most powerful advertising tool ever created can generate sales for your business. Get lower costs per lead and higher ROI with PPC advertising.&nbsp\;&nbsp\;<br />\n&nbsp\;<br />\nWhat you will learn:<br />\n&nbsp\;<br />\n* How you can attract targeted and relevant traffic to your website in 24 hours<br />\n* Why all clicks are not created equal<br />\n* Why search marketing is the most powerful tool in your digital arsenal<br />\n* Why PPC advertising is more powerful yet complimentary to social media<br />\n* How AdWords uses mobile marketing to increase sales<br />\n* Why more people buy with PPC ads when looking to purchase online<br />\n&nbsp\;<br />\nStuart Atkins is the owner and founder of Atkins Marketing Solutions\, a digital marketing agency in Orange\, CA. He&#39\;s a search marketing specialist\, marketing consultant\, author of two books\, speaker\, and Adjunct Professor of Marketing at Cal State Fullerton&#39\;s Mihaylo College of Business and Economics. He brings over 30 years of marketing experience to every seminar.
LOCATION:Orange Public Library (VM Greenfield) 407 E Chapman Ave Orange\, CA 92866
UID:e.887.22492
SEQUENCE:3
DTSTAMP:20260422T064903Z
URL:https://nocchamber-gzcms.preview.gochambermaster.com/events/details/the-power-of-ppc-advertising-google-adwords-in-action-22492
END:VEVENT

END:VCALENDAR
