BEGIN:VCALENDAR
VERSION:2.0
PRODID:-//ChamberMaster//Event Calendar 2.0//EN
METHOD:PUBLISH
X-PUBLISHED-TTL:P3D
REFRESH-INTERVAL:P3D
CALSCALE:GREGORIAN
BEGIN:VEVENT
DTSTART:20140501T190500Z
DTEND:20140629T190000Z
X-MICROSOFT-CDO-ALLDAYEVENT:FALSE
SUMMARY:The North Orange County High School Art Showcase
DESCRIPTION:The North Orange County High School Art Showcase\n\nJoin us in a celebration of local high school artists in a rotating gallery that exemplifies the next generation of artists. Select pieces chosen form the very best of North Orange County high school students' portfolios will be presented in Walter's Gallery.
X-ALT-DESC;FMTTYPE=text/html:The North Orange County High School Art Showcase<br />\nJoin us in a celebration of local high school artists in a rotating gallery that exemplifies the next generation of artists. Select pieces chosen form the very best of North Orange County high school students&rsquo\; portfolios will be presented in Walter&rsquo\;s Gallery.
LOCATION:The Muckenthaler Cultural Center
UID:e.887.8710
SEQUENCE:3
DTSTAMP:20260425T162620Z
URL:https://nocchamber-gzcms.preview.gochambermaster.com/events/details/the-north-orange-county-high-school-art-showcase-8710
END:VEVENT

END:VCALENDAR
