BEGIN:VCALENDAR
VERSION:2.0
PRODID:-//ChamberMaster//Event Calendar 2.0//EN
METHOD:PUBLISH
X-PUBLISHED-TTL:P3D
REFRESH-INTERVAL:P3D
CALSCALE:GREGORIAN
BEGIN:VEVENT
DTSTART:20171116T150000Z
DTEND:20171116T170000Z
X-MICROSOFT-CDO-ALLDAYEVENT:FALSE
SUMMARY:The 39th Annual Buena Park Mayor's Prayer Breakfast
DESCRIPTION:The Buena Park Mayor's Prayer Breakfast gives local clergy and area residents an opportunity to congregate and share an inspirational message to begin each holiday season.
X-ALT-DESC;FMTTYPE=text/html:The Buena Park Mayor&rsquo\;s Prayer Breakfast gives local clergy and area residents an opportunity to congregate and share an inspirational message to begin each holiday season.<br />\n&nbsp\;
LOCATION:Knott's Berry Farm Hotel 7675 Crescent Avenue Buena Park\, CA 90620
UID:e.887.17349
SEQUENCE:3
DTSTAMP:20260421T015524Z
URL:https://nocchamber-gzcms.preview.gochambermaster.com/events/details/the-39th-annual-buena-park-mayor-s-prayer-breakfast-17349
END:VEVENT

END:VCALENDAR
