BEGIN:VCALENDAR
VERSION:2.0
PRODID:-//ChamberMaster//Event Calendar 2.0//EN
METHOD:PUBLISH
X-PUBLISHED-TTL:P3D
REFRESH-INTERVAL:P3D
CALSCALE:GREGORIAN
BEGIN:VEVENT
DTSTART:20181027T160000Z
DTEND:20181028T080000Z
X-MICROSOFT-CDO-ALLDAYEVENT:FALSE
SUMMARY:Tac City Airsoft - Halloween: Nerf vs. Zombies
DESCRIPTION:Tac City Airsoft hosst Halloween: Nerf vs. Zombies in two gameplay sessions:\n\n	Morning session (9:00 a.m. - 1:00 p.m.) for ages 6+\n	Evening session (9:00 p.m. - 1:00 a.m.) for ages 18+
X-ALT-DESC;FMTTYPE=text/html:Tac City Airsoft hosst&nbsp\;<strong>Halloween: Nerf vs. Zombies</strong> in two gameplay sessions:\n<ul>\n	<li>Morning session (9:00 a.m. - 1:00 p.m.)&nbsp\;for ages 6+</li>\n	<li>Evening session (9:00 p.m. - 1:00 a.m.)&nbsp\;for ages 18+</li>\n</ul>\n
LOCATION:Tac City Airsoft 2430 Artesia Ave. Fullerton\, CA 92833
UID:e.887.22780
SEQUENCE:3
DTSTAMP:20260422T202323Z
URL:https://nocchamber-gzcms.preview.gochambermaster.com/events/details/tac-city-airsoft-halloween-nerf-vs-zombies-22780
END:VEVENT

END:VCALENDAR
