BEGIN:VCALENDAR
VERSION:2.0
PRODID:-//ChamberMaster//Event Calendar 2.0//EN
METHOD:PUBLISH
X-PUBLISHED-TTL:P3D
REFRESH-INTERVAL:P3D
CALSCALE:GREGORIAN
BEGIN:VEVENT
DTSTART:20150409T000000Z
DTEND:20150409T020000Z
X-MICROSOFT-CDO-ALLDAYEVENT:FALSE
SUMMARY:Sunset Mixer: Muckenthaler Cultural Center/Colette's
DESCRIPTION:The relaxed\, after-hours business networking event is free to Chamber members and prospective Chamber members and includes prizes and giveaways. Remember plenty of business cards and a raffle prize to help promote your business!
X-ALT-DESC;FMTTYPE=text/html:<span style="font-size: 12px"><span style="font-family: arial">The relaxed\, after-hours business networking event is free to Chamber members and prospective Chamber members and includes prizes and giveaways. Remember plenty of business cards and a raffle prize to help promote your business!</span></span>
LOCATION:Muckenthaler Cultural Center\, 1201 W. Malvern Ave.
UID:e.887.472
SEQUENCE:3
DTSTAMP:20260424T225256Z
URL:https://nocchamber-gzcms.preview.gochambermaster.com/events/details/sunset-mixer-muckenthaler-cultural-center-colette-s-472
END:VEVENT

END:VCALENDAR
