BEGIN:VCALENDAR
VERSION:2.0
PRODID:-//ChamberMaster//Event Calendar 2.0//EN
METHOD:PUBLISH
X-PUBLISHED-TTL:P3D
REFRESH-INTERVAL:P3D
CALSCALE:GREGORIAN
BEGIN:VEVENT
DTSTART:20140313T000000Z
DTEND:20140313T020000Z
X-MICROSOFT-CDO-ALLDAYEVENT:FALSE
SUMMARY:Sunset Mixer
DESCRIPTION:The relaxed\, after-hours business networking event\, hosted by Fullerton Airport\, Air Combat USA\, and the Wings Cafe is free to Chamber members and prospective Chamber members and includes prizes and giveaways. Remember plenty of business cards and a raffle prize to help promote your business!
X-ALT-DESC;FMTTYPE=text/html:<span style="font-size: 12px"><span style="font-family: arial">The relaxed\, after-hours business networking event\, hosted by Fullerton Airport\, Air Combat USA\, and the Wings Cafe is free to Chamber members and prospective Chamber members and includes prizes and giveaways. Remember plenty of business cards and a raffle prize to help promote your business!</span></span>
LOCATION:Air Combat USA Hanger at the Fullerton Airport: 3815 W. Commonwealth Ave.\, Fullerton\, CA 92833
UID:e.887.459
SEQUENCE:3
DTSTAMP:20260425T224215Z
URL:https://nocchamber-gzcms.preview.gochambermaster.com/events/details/sunset-mixer-03-12-2014-459
END:VEVENT

END:VCALENDAR
