BEGIN:VCALENDAR
VERSION:2.0
PRODID:-//ChamberMaster//Event Calendar 2.0//EN
METHOD:PUBLISH
X-PUBLISHED-TTL:P3D
REFRESH-INTERVAL:P3D
CALSCALE:GREGORIAN
BEGIN:VEVENT
DTSTART:20140213T010000Z
DTEND:20140213T030000Z
X-MICROSOFT-CDO-ALLDAYEVENT:FALSE
SUMMARY:Sunset Mixer
DESCRIPTION:More than 100 business men and women will come together to mingle with colleagues at the Fullerton Chamber of Commerce's Sunset Mixer co hosted with the Fullerton Collaborative.. Remember plenty of business cards and a raffle prize to help promote your business!\n\n\n\nThere will be plenty of parking on the south side of the building!
X-ALT-DESC;FMTTYPE=text/html:<span style="font-size: 12px"><span style="font-family: arial"><span style="color: rgb(51\, 51\, 51)\; font-family: 'lucida grande'\, tahoma\, verdana\, arial\, sans-serif\; font-size: 13.333333015441895px\; font-style: normal\; font-variant: normal\; font-weight: normal\; letter-spacing: normal\; line-height: 13.866665840148926px\; orphans: auto\; text-align: left\; text-indent: 0px\; text-transform: none\; white-space: normal\; widows: auto\; word-spacing: 0px\; -webkit-text-stroke-width: 0px\; background-color: rgb(255\, 255\, 255)\; display: inline !important\; float: none\;">More than 100 business men and women will come together to mingle with colleagues at the Fullerton Chamber of Commerce&rsquo\;s Sunset Mixer co hosted with the Fullerton Collaborative.</span>. Remember plenty of business cards and a raffle prize to help promote your business!<br />\n<br />\nThere will be plenty of parking on the south side of the building!</span></span><br />\n<br />\n
LOCATION:Boys and Girls Club of Fullerton 340 W. Commonwealth Ave\, Fullerton\, CA 92832
UID:e.887.458
SEQUENCE:3
DTSTAMP:20260426T000614Z
URL:https://nocchamber-gzcms.preview.gochambermaster.com/events/details/sunset-mixer-02-12-2014-458
END:VEVENT

END:VCALENDAR
