BEGIN:VCALENDAR
VERSION:2.0
PRODID:-//ChamberMaster//Event Calendar 2.0//EN
METHOD:PUBLISH
X-PUBLISHED-TTL:P3D
REFRESH-INTERVAL:P3D
CALSCALE:GREGORIAN
BEGIN:VEVENT
DTSTART:20140404T183000Z
DTEND:20140404T210000Z
X-MICROSOFT-CDO-ALLDAYEVENT:FALSE
SUMMARY:State of the City 2014
DESCRIPTION:The 2014 Fullerton State of the City  will be held Friday\, April 4 at 11:30 a.m. at California State University\, Fullerton's Titan Student Union. \n\nPresented in partnership with CSU Fullerton and Farmers and Merchants Bank.\n\n\n\nThe event will feature a presentation from Mayor Doug Chaffee\, who will provide an update on his perspective for 2014.\n\n\n\nSeats at the event are $65 and may be purchased by calling the Fullerton Chamber of Commerce. Tables and other sponsorships are also available by calling (714) 871-3100.
X-ALT-DESC;FMTTYPE=text/html:<p>The 2014 Fullerton State of the City&nbsp\; will be held Friday\, April 4 at 11:30 a.m. at California State University\, Fullerton&#39\;s Titan Student Union.&nbsp\;<br />\nPresented in partnership with CSU Fullerton and Farmers and Merchants Bank.<br />\n<br />\nThe event will feature a presentation from Mayor Doug Chaffee\, who will provide an update on his perspective for 2014.<br />\n<br />\nSeats at the event are $65 and may be purchased by calling the Fullerton Chamber of Commerce. Tables and other sponsorships are also available by calling (714) 871-3100.<br />\n&nbsp\;</p>\n
LOCATION:CSU Fullerton Titan Student Union\, 800 N. State College Blvd.\, Fullerton
UID:e.887.8675
SEQUENCE:3
DTSTAMP:20260425T224750Z
URL:https://nocchamber-gzcms.preview.gochambermaster.com/events/details/state-of-the-city-2014-8675
END:VEVENT

END:VCALENDAR
