BEGIN:VCALENDAR
VERSION:2.0
PRODID:-//ChamberMaster//Event Calendar 2.0//EN
METHOD:PUBLISH
X-PUBLISHED-TTL:P3D
REFRESH-INTERVAL:P3D
CALSCALE:GREGORIAN
BEGIN:VEVENT
DTSTART:20170914T010000Z
DTEND:20170914T030000Z
X-MICROSOFT-CDO-ALLDAYEVENT:FALSE
SUMMARY:Start and Grow your Business the Right Way
DESCRIPTION:It is definitely more than a full time job launching a business and it can be overwhelming\, especially for new entrepreneurs. That is why the CSUF Startup incubator is happy to have startup expert Marc Pakbaz give a talk about how to successfully launch your once-in-a-lifetime business.\n\nMarc draws on his decades of experience as an entrepreneur and working with startups to provide a clear blueprint for how entrepreneurs can keep on track and get to launch with as few mistakes as possible. You owe it to yourself and the success of your startup to attend this seminar hosted by the CSUF Startup Incubator at the CSUF Irvine campus.\n\nPizza and soft drinks will be served at this event.
X-ALT-DESC;FMTTYPE=text/html:<p>It is definitely more than a full time job launching a business and it can be overwhelming\, especially for new entrepreneurs. That is why the&nbsp\;CSUF&nbsp\;Startup&nbsp\;incubator&nbsp\;is&nbsp\;happy to have startup expert Marc Pakbaz give a talk about how to successfully launch your once-in-a-lifetime business.</p>\n\n<p>Marc draws on his decades of experience as an entrepreneur and working with startups to provide a clear blueprint for how entrepreneurs can keep on track and get to launch with as few mistakes as possible. You owe it to yourself and the success of your startup to attend this seminar hosted by the CSUF Startup Incubator at the CSUF Irvine campus.</p>\n\n<p>Pizza and soft drinks will be served at this event.</p>\n
LOCATION:Cal State Fullerton - Irvine Campus 3 Banting Room: 123/124 Irvine\, CA 92618
UID:e.887.16237
SEQUENCE:3
DTSTAMP:20260420T200408Z
URL:https://nocchamber-gzcms.preview.gochambermaster.com/events/details/start-and-grow-your-business-the-right-way-16237
END:VEVENT

END:VCALENDAR
