BEGIN:VCALENDAR
VERSION:2.0
PRODID:-//ChamberMaster//Event Calendar 2.0//EN
METHOD:PUBLISH
X-PUBLISHED-TTL:P3D
REFRESH-INTERVAL:P3D
CALSCALE:GREGORIAN
BEGIN:VEVENT
DTSTART:20180208T210000Z
DTEND:20180209T010000Z
X-MICROSOFT-CDO-ALLDAYEVENT:FALSE
SUMMARY:Stanton Job Fair
DESCRIPTION:The City of Stanton will be hosting a job fair on Thursday\, February 8\, 2018\, at the Stanton Community/Civic Center.\n\n\n\nThe Stanton job fair will include local and regional businesses\, as well as community colleges and vocational training. The event will also feature a job board filled with flyers and listings of open positions at companies or businesses that could not attend the fair but are hiring. \n\n \n\nTo register as an employer to participate in the job fair or for additional information\, please call (714) 890   4225 or email Cynthia Guzman at cguzman@ci.stanton.ca.us.
X-ALT-DESC;FMTTYPE=text/html:<span style="font-family:arial\;"><span style="font-size:12px\;"><span style="color:black\;">The City of Stanton will be hosting a job fair on Thursday\, February 8\, 2018\, at the Stanton Community/Civic Center.<br />\n<br />\nThe Stanton job fair will include local and regional businesses\, as well as community colleges and vocational training. The event will also feature a job board filled with flyers and listings of open positions at companies or businesses that could not attend the fair but are hiring.&nbsp\;<br />\n&nbsp\;<br />\nTo register as an employer to participate in the job fair or for additional information\, please call (714) 890 &ndash\; 4225 or email Cynthia Guzman at <a href="mailto:cguzman@ci.stanton.ca.us">cguzman@ci.stanton.ca.us</a>.</span></span></span><br />\n<br />\n&nbsp\;
LOCATION:Stanton Community/Civic Center 7800 Katella Avenue Stanton\, CA
UID:e.887.17592
SEQUENCE:3
DTSTAMP:20260421T235258Z
URL:https://nocchamber-gzcms.preview.gochambermaster.com/events/details/stanton-job-fair-17592
END:VEVENT

END:VCALENDAR
