BEGIN:VCALENDAR
VERSION:2.0
PRODID:-//ChamberMaster//Event Calendar 2.0//EN
METHOD:PUBLISH
X-PUBLISHED-TTL:P3D
REFRESH-INTERVAL:P3D
CALSCALE:GREGORIAN
BEGIN:VEVENT
DTSTART:20180720T010000Z
DTEND:20180720T023000Z
X-MICROSOFT-CDO-ALLDAYEVENT:FALSE
SUMMARY:Stanton Home-Buyer's Workshop
DESCRIPTION:On Thursday\, July 19\, 2018\, Bank of the West (located at 11051 Beach Boulevard) will be hosting a free homebuyer's workshop for Stanton residents. The workshop is from 6 - 7:30 p.m.\n\n\n\nDuring the workshop\, several topics will be covered including first-time homebuyer's programs\, steps to purchasing a home\, payment options and more.\n\n\n\nFor additional information or to reserve your seats for the workshop\, please call Elizabeth Salas at (714) 269-7100 or email at elizabeth.salas@bankofthewest.com.
X-ALT-DESC;FMTTYPE=text/html:On Thursday\, July 19\, 2018\, Bank of the West (located at 11051 Beach Boulevard) will be hosting a&nbsp\;free homebuyer&#39\;s workshop for Stanton residents. The workshop is from 6 - 7:30 p.m.<br />\n<br />\nDuring the workshop\, several topics will be covered including first-time homebuyer&#39\;s programs\, steps to purchasing a home\, payment options and more.<br />\n<br />\nFor additional information or to reserve your seats for the workshop\, please call Elizabeth Salas at (714) 269-7100 or email at <a href="mailto:elizabeth.salas@bankofthewest.com">elizabeth.salas@bankofthewest.com</a>.
LOCATION:Bank of the West 11051 Beach Blvd. Stanton\, CA 90680
UID:e.887.22524
SEQUENCE:3
DTSTAMP:20260422T080503Z
URL:https://nocchamber-gzcms.preview.gochambermaster.com/events/details/stanton-home-buyer-s-workshop-22524
END:VEVENT

END:VCALENDAR
