BEGIN:VCALENDAR
VERSION:2.0
PRODID:-//ChamberMaster//Event Calendar 2.0//EN
METHOD:PUBLISH
X-PUBLISHED-TTL:P3D
REFRESH-INTERVAL:P3D
CALSCALE:GREGORIAN
BEGIN:VEVENT
DTSTART:20160625T210000Z
DTEND:20160625T233000Z
X-MICROSOFT-CDO-ALLDAYEVENT:FALSE
SUMMARY:Stanton Central Park Grand Opening
DESCRIPTION:The City of Stanton cordially invites you to attend the Grand Opening of Stanton Central Park. Please RSVP by June 16th.
X-ALT-DESC;FMTTYPE=text/html:The City of Stanton cordially invites you to attend the Grand Opening of Stanton Central Park. Please RSVP by June 16th.
LOCATION:10660 Western Ave Stanton\, CA
UID:e.887.14468
SEQUENCE:3
DTSTAMP:20260423T095606Z
URL:https://nocchamber-gzcms.preview.gochambermaster.com/events/details/stanton-central-park-grand-opening-14468
END:VEVENT

END:VCALENDAR
