BEGIN:VCALENDAR
VERSION:2.0
PRODID:-//ChamberMaster//Event Calendar 2.0//EN
METHOD:PUBLISH
X-PUBLISHED-TTL:P3D
REFRESH-INTERVAL:P3D
CALSCALE:GREGORIAN
BEGIN:VEVENT
DTSTART:20170415T150000Z
DTEND:20170415T210000Z
X-MICROSOFT-CDO-ALLDAYEVENT:FALSE
SUMMARY:Spring Eggstravaganza
DESCRIPTION:Come be apart of the "Egg-citement" this spring at Buena Park's very special Spring Eggstravaganza. Activities include stage entertainment\, children's crafts\, field games\, a petting zoo\, moon bounces\, visits with Spring Bunny\, and of course\, the candy scramble for children 12 years and younger.\n\n\n\nCome early and join us for a special pancake breakfast starting at 8:00 a.m. sponsored by the Buena Park Noon Lions.
X-ALT-DESC;FMTTYPE=text/html:Come be apart of the &quot\;Egg-citement&quot\; this spring at Buena Park&#39\;s very special Spring Eggstravaganza. Activities include stage entertainment\, children&#39\;s crafts\, field games\, a petting zoo\, moon bounces\, visits with Spring Bunny\, and of course\, the candy scramble for children 12 years and younger.<br />\n<br />\nCome early and join us for a special pancake breakfast starting at 8:00 a.m. sponsored by the Buena Park Noon Lions.&nbsp\;
LOCATION:Henry Boisseranc Park 7520 Dale Street Buena Park\, CA 90620
UID:e.887.16012
SEQUENCE:3
DTSTAMP:20260421T120706Z
URL:https://nocchamber-gzcms.preview.gochambermaster.com/events/details/spring-eggstravaganza-16012
END:VEVENT

END:VCALENDAR
