BEGIN:VCALENDAR
VERSION:2.0
PRODID:-//ChamberMaster//Event Calendar 2.0//EN
METHOD:PUBLISH
X-PUBLISHED-TTL:P3D
REFRESH-INTERVAL:P3D
CALSCALE:GREGORIAN
BEGIN:VEVENT
DTSTART:20160802T064500Z
DTEND:20160801T200000Z
X-MICROSOFT-CDO-ALLDAYEVENT:FALSE
SUMMARY:Soroptimist International of Fullerton Luncheon
DESCRIPTION:Soroptimist International of Fullerton meets the first and third Mondays of each month. Meetings begin at 11:45 p.m.\, and end at 1:00 p.m. The organization is dedicated to improving the lives of women and girls.
X-ALT-DESC;FMTTYPE=text/html:Soroptimist International of Fullerton meets the first and third Mondays of each month. Meetings begin at 11:45 p.m.\, and end at 1:00 p.m. The organization is dedicated to improving the lives of women and girls.<br />\n<br />\n&nbsp\;
LOCATION:The Old Spaghetti Factory 110 E Santa Fe Ave. Fullerton\, CA 92832
UID:e.887.5771
SEQUENCE:3
DTSTAMP:20260422T154818Z
URL:https://nocchamber-gzcms.preview.gochambermaster.com/events/details/soroptimist-international-of-fullerton-luncheon-08-01-2016-5771
END:VEVENT

END:VCALENDAR
