BEGIN:VCALENDAR
VERSION:2.0
PRODID:-//ChamberMaster//Event Calendar 2.0//EN
METHOD:PUBLISH
X-PUBLISHED-TTL:P3D
REFRESH-INTERVAL:P3D
CALSCALE:GREGORIAN
BEGIN:VEVENT
DTSTART:20150502T160000Z
DTEND:20150502T190000Z
X-MICROSOFT-CDO-ALLDAYEVENT:FALSE
SUMMARY:Social Media & WordPress Bootcamp
DESCRIPTION:Supercharge Your Social Media & 5 Best Practices in WordPress\n\nPlus: Hands-on WordPress Bootcamp
X-ALT-DESC;FMTTYPE=text/html:<strong><span style="font-size:12.0pt\;">Supercharge Your Social Media &amp\; 5 Best Practices in WordPress</span></strong><br />\n<strong><span style="font-size:12.0pt\;">Plus: Hands-on WordPress Bootcamp</span></strong>
LOCATION:National University\, 3390 Harbor Blvd.\, Costa Mesa\, CA 92626
UID:e.887.11209
SEQUENCE:3
DTSTAMP:20260424T215538Z
URL:https://nocchamber-gzcms.preview.gochambermaster.com/events/details/social-media-wordpress-bootcamp-11209
END:VEVENT

END:VCALENDAR
