BEGIN:VCALENDAR
VERSION:2.0
PRODID:-//ChamberMaster//Event Calendar 2.0//EN
METHOD:PUBLISH
X-PUBLISHED-TTL:P3D
REFRESH-INTERVAL:P3D
CALSCALE:GREGORIAN
BEGIN:VEVENT
DTSTART:20140912T003000Z
DTEND:20140912T040000Z
X-MICROSOFT-CDO-ALLDAYEVENT:FALSE
SUMMARY:SCORE: So You Are on Social Media\, Now What?
DESCRIPTION:Simply having an account on a social media channel is not enough. Developing a plan to stay top-of-mind is the next step. \n\n \n\nIn this workshop\, learn how small businesses and non-profits can leverage today's social media networks like Facebook\, LinkedIn and Twitter to create new opportunities and reach customers and those that matter most to your organization.\n\n \n\nIn this session\, we show some next steps\, strategies and best practices to get the most out of your social media activities\, including:  \n\n\n	We'll look at the top social media channels and how they can work for your business or non-profit\n	Show how email can work hand-in-hand with other social media\n	How content is the magnet for engagement\n	Look at real-world examples\n	Brainstorm ideas to help you build a game plan \n\nPlus\, we will take a deeper look at how Facebook can be used to promote your business or non-profit. We will discuss best practices and show you real-world examples of how others are using this exciting marketing platform to stay top of mind with their audience.
X-ALT-DESC;FMTTYPE=text/html:<span style="font-family:arial\,sans-serif\;"><span style="font-size:10.0pt\;">Simply having an account on a social media channel is not enough. Developing a plan to stay top-of-mind is the next step. </span></span><br />\n&nbsp\;<br />\n<span style="font-family:arial\,sans-serif\;"><span style="font-size:10.0pt\;">In this workshop\, learn how small businesses and non-profits can leverage today&#39\;s social media networks like Facebook\, LinkedIn and Twitter to create new opportunities and reach customers and those that matter most to your organization.</span></span><br />\n&nbsp\;<br />\n<span style="font-family:arial\,sans-serif\;"><span style="font-size:10.0pt\;">In this session\, we show some next steps\, strategies and best practices to get the most out of your social media activities\, including: &nbsp\;</span></span>\n\n<ul>\n	<li style="color:#265288\;text-align:justify\;"><span style="font-family:arial\,sans-serif\;"><span style="font-size:10.0pt\;">We&#39\;ll look at the top social media channels and how they can work for your business or non-profit</span></span></li>\n	<li style="color:#265288\;text-align:justify\;"><span style="font-family:arial\,sans-serif\;"><span style="font-size:10.0pt\;">Show how email can work hand-in-hand with other social media</span></span></li>\n	<li style="color:#265288\;text-align:justify\;"><span style="font-family:arial\,sans-serif\;"><span style="font-size:10.0pt\;">How content is the magnet for engagement</span></span></li>\n	<li style="color:#265288\;text-align:justify\;"><span style="font-family:arial\,sans-serif\;"><span style="font-size:10.0pt\;">Look at real-world examples</span></span></li>\n	<li style="color:#265288\;text-align:justify\;"><span style="font-family:arial\,sans-serif\;"><span style="font-size:10.0pt\;">Brainstorm ideas to help you build a game plan </span></span></li>\n</ul>\n<strong><span style="font-family:arial\,sans-serif\;"><span style="font-size:10.0pt\;">Plus\, we will take a deeper look at how Facebook</span></span></strong><span style="font-family:arial\,sans-serif\;"><span style="font-size:10.0pt\;"> can be used to promote your business or non-profit. We will discuss best practices and show you real-world examples of how others are using this exciting marketing platform to stay top of mind with their audience.</span></span>
LOCATION:Fullerton Public Library
UID:e.887.9916
SEQUENCE:3
DTSTAMP:20260425T125146Z
URL:https://nocchamber-gzcms.preview.gochambermaster.com/events/details/so-you-are-on-social-media-now-what-9916
END:VEVENT

END:VCALENDAR
