BEGIN:VCALENDAR
VERSION:2.0
PRODID:-//ChamberMaster//Event Calendar 2.0//EN
METHOD:PUBLISH
X-PUBLISHED-TTL:P3D
REFRESH-INTERVAL:P3D
CALSCALE:GREGORIAN
BEGIN:VEVENT
DTSTART:20190606T200000Z
DTEND:20190607T000000Z
X-MICROSOFT-CDO-ALLDAYEVENT:FALSE
SUMMARY:Small Business Workshop: Managing Relationships
DESCRIPTION:This course will discuss how to build and manage client and business relationships - understanding your client\, their needs and requirements. In today's "relationship economy" both B2B and B2C businesses are expected to go beyond simply doing business on a transactional basis. If they do not buy into you\, they will not buy from you. Honing skills for assessing needs\, finding common interests\, and looking beyond data requests will be explored in this course.\n\n\n\nObjectives:\n\n	Managing business relationships in all phases from first meeting to final payment\n	Importance of building relationships first\n	Building Rapport\n	Understanding relationships in the contracting process (pre and post award)\n	How to avoid the biggest mistake business owners make in relationship building\n\n\nLearn more about certification from the following speakers:\n\n\n	Marlene Nantell - Director of Business Development and Community Outreach\, Southern California Minority Supplier Development Council\n	Jaymee Lomax - Vice President\, Women Business Enterprise Council - West\n	Linda Stone\, Founder and CEO of APR Consulting\, Co-Founder of ABAOC\, NMSDC Certified\, WBENC Certified\, CPUC Certified
X-ALT-DESC;FMTTYPE=text/html:This course will discuss how to build and manage client and business relationships - understanding your client\, their needs and requirements. In today&#39\;s &quot\;relationship economy&quot\; both B2B and B2C businesses are expected to go beyond simply doing business on a transactional basis. If they do not buy into you\, they will not buy from you. Honing skills for assessing needs\, finding common interests\, and looking beyond data requests will be explored in this course.<br />\n<br />\nObjectives:\n<ul>\n	<li>Managing business relationships in all phases from first meeting to final payment</li>\n	<li>Importance of building relationships first</li>\n	<li>Building Rapport</li>\n	<li>Understanding relationships in the contracting process (pre and post award)</li>\n	<li>How to avoid the biggest mistake business owners make in relationship building</li>\n</ul>\n\n<p>Learn more about certification from the following speakers:</p>\n\n<ul>\n	<li>Marlene Nantell - Director of Business&nbsp\;Development and Community Outreach\, Southern California Minority Supplier Development Council</li>\n	<li>Jaymee Lomax&nbsp\;- Vice President\, Women Business Enterprise Council - West</li>\n	<li>Linda Stone\,&nbsp\;Founder and CEO of APR Consulting\,&nbsp\;Co-Founder of ABAOC\,&nbsp\;NMSDC Certified\, WBENC Certified\, CPUC Certifi<span style="margin: 0px\; padding: 0px\; border: 0px\; font-style: inherit\; font-variant: inherit\; font-weight: inherit\; font-stretch: inherit\; font-size: 13px\; line-height: inherit\; font-family: Arial\, Verdana\, Helvetica\, sans-serif\; vertical-align: baseline\; color: rgb(34\, 34\, 34)\;">ed</span></li>\n</ul>\n
LOCATION:Delta Hotels by Marriott - Anaheim Garden Grove 12021 Harbor Blvd Garden Grove\, CA 92840
UID:e.887.23386
SEQUENCE:3
DTSTAMP:20260424T030402Z
URL:https://nocchamber-gzcms.preview.gochambermaster.com/events/details/small-business-workshop-managing-relationships-23386
END:VEVENT

END:VCALENDAR
