BEGIN:VCALENDAR
VERSION:2.0
PRODID:-//ChamberMaster//Event Calendar 2.0//EN
METHOD:PUBLISH
X-PUBLISHED-TTL:P3D
REFRESH-INTERVAL:P3D
CALSCALE:GREGORIAN
BEGIN:VEVENT
DTSTART:20151024T150000Z
DTEND:20151024T180000Z
X-MICROSOFT-CDO-ALLDAYEVENT:FALSE
SUMMARY:Shred Day Offered By Placentia PD
DESCRIPTION:On Saturday\, Oct. 24\, Placentia residents can have their confidential documents destroyed on-site\, free of charge\, by Shred-It at the Placentia Police Department from 8 - 11 a.m. Residents will be required to provide proof of residency. Please limit documents to two boxes per household.\n\n\n\nFor addition information this event\, contact the Placentia Police Department at (714) 993-8225.
X-ALT-DESC;FMTTYPE=text/html:On Saturday\, Oct. 24\, Placentia residents can have their confidential documents destroyed on-site\, free of charge\, by Shred-It at the Placentia Police Department from 8 - 11 a.m. Residents will be required to provide proof of residency. Please limit documents to two boxes per household.<br />\n<br />\nFor addition information this event\, contact the Placentia Police Department at (714) 993-8225.
LOCATION:Placentia Police Department 401 E. Chapman Ave.
UID:e.887.12333
SEQUENCE:3
DTSTAMP:20260424T015819Z
URL:https://nocchamber-gzcms.preview.gochambermaster.com/events/details/shred-day-offered-by-placentia-pd-12333
END:VEVENT

END:VCALENDAR
