BEGIN:VCALENDAR
VERSION:2.0
PRODID:-//ChamberMaster//Event Calendar 2.0//EN
METHOD:PUBLISH
X-PUBLISHED-TTL:P3D
REFRESH-INTERVAL:P3D
CALSCALE:GREGORIAN
BEGIN:VEVENT
DTSTART:20161129T010000Z
DTEND:20161129T030000Z
X-MICROSOFT-CDO-ALLDAYEVENT:FALSE
SUMMARY:Senator Bob Huff's Holiday Open House
DESCRIPTION:Bob Huff\, California 29th Senate District\, hosts his final Holiday Open House. As a token of appreciation\, guests are invited to a night of musical entertainment and refreshments as a final legislative update is provided.
X-ALT-DESC;FMTTYPE=text/html:Bob Huff\, California&nbsp\;29th Senate District\, hosts his final Holiday Open House. As a token of appreciation\, guests are invited to a night of musical entertainment and refreshments as a final legislative update is provided.&nbsp\;
LOCATION:1800 East Lambert Road\, #150 Brea\, CA 92821
UID:e.887.15479
SEQUENCE:3
DTSTAMP:20260422T045039Z
URL:https://nocchamber-gzcms.preview.gochambermaster.com/events/details/senator-bob-huff-s-holiday-open-house-15479
END:VEVENT

END:VCALENDAR
