BEGIN:VCALENDAR
VERSION:2.0
PRODID:-//ChamberMaster//Event Calendar 2.0//EN
METHOD:PUBLISH
X-PUBLISHED-TTL:P3D
REFRESH-INTERVAL:P3D
CALSCALE:GREGORIAN
BEGIN:VEVENT
DTSTART:20190725T003000Z
DTEND:20190725T030000Z
X-MICROSOFT-CDO-ALLDAYEVENT:FALSE
SUMMARY:Senator Bob Archuleta District Office Open House
DESCRIPTION:Senator Bob Archuleta\, representing Senate District 32\, is hosting an open house for his district office on Wednesday\, July 24\, 2019 in Norwalk.\n\n	Meet the Senator and his staff\n	Learn how the District Office can help you\n	Hear about current legislation\n\nFor more information\, contact Sandra Molina at (562) 406-1001 or at sandra.molina@sen.ca.gov.\n\n\n\nClick here to RSVP. Please RSVP by July 17\, 2019.
X-ALT-DESC;FMTTYPE=text/html:Senator Bob Archuleta\, representing Senate District 32\, is hosting an open house for his district office on Wednesday\, July 24\, 2019 in Norwalk.\n<ul>\n	<li>Meet the Senator and his staff</li>\n	<li>Learn how the District Office can help you</li>\n	<li>Hear about current legislation</li>\n</ul>\nFor more information\, contact Sandra Molina at (562) 406-1001 or at sandra.molina@sen.ca.gov.<br />\n<br />\n<a href="http://www.senate.ca.gov/9890/openhouse" target="_blank">Click here</a> to RSVP. Please RSVP by July 17\, 2019.
LOCATION:Norwalk District Office 12501 Imperial Highway\, Suite 110 Norwalk\, CA 90650
UID:e.887.23444
SEQUENCE:3
DTSTAMP:20260424T060035Z
URL:https://nocchamber-gzcms.preview.gochambermaster.com/events/details/senator-bob-archuleta-district-office-open-house-23444
END:VEVENT

END:VCALENDAR
