BEGIN:VCALENDAR
VERSION:2.0
PRODID:-//ChamberMaster//Event Calendar 2.0//EN
METHOD:PUBLISH
X-PUBLISHED-TTL:P3D
REFRESH-INTERVAL:P3D
CALSCALE:GREGORIAN
BEGIN:VEVENT
DTSTART:20170901T010000Z
DTEND:20170901T040000Z
X-MICROSOFT-CDO-ALLDAYEVENT:FALSE
SUMMARY:SCORE Workshop The Secrets To Buying A Franchise
DESCRIPTION:In this workshop\, you will learn how to evaluate starting a franchise vs. an independent business vs. buying an existing business\; the best types of franchises to open in today's economy\; the myths about franchising\; the costs to start a franchise\; how to research a franchise to make sure it's the right choice\; how to decide which franchises are best for you.    \n\n\n\nThis workshop is presented by Richard Usher and Craig Wells.
X-ALT-DESC;FMTTYPE=text/html:In this workshop\, you will learn how to evaluate starting a franchise vs. an independent business vs. buying an existing business\; the best types of franchises to open in today&#39\;s economy\; the myths about franchising\; the costs to start a franchise\; how to research a franchise to make sure it&#39\;s the right choice\; how to decide which franchises are best for you. &nbsp\; &nbsp\;<br />\n<br />\nThis workshop is presented by&nbsp\;Richard Usher and Craig Wells.
LOCATION:Digital Media Center 1300 S. Bristol St. Santa Ana\, CA 92704
UID:e.887.17293
SEQUENCE:3
DTSTAMP:20260420T214307Z
URL:https://nocchamber-gzcms.preview.gochambermaster.com/events/details/score-workshop-the-secrets-to-buying-a-franchise-17293
END:VEVENT

END:VCALENDAR
