BEGIN:VCALENDAR
VERSION:2.0
PRODID:-//ChamberMaster//Event Calendar 2.0//EN
METHOD:PUBLISH
X-PUBLISHED-TTL:P3D
REFRESH-INTERVAL:P3D
CALSCALE:GREGORIAN
BEGIN:VEVENT
DTSTART:20170525T203000Z
DTEND:20170525T233000Z
X-MICROSOFT-CDO-ALLDAYEVENT:FALSE
SUMMARY:SCORE Workshop The Road To Business Credit
DESCRIPTION:Financial institutions place a different value on credit scores when considering an extension of business credit.\n\nAccess to credit with reasonable cost is vital to business success. Credit score is only one aspect in the approval process. However\, scores will determine whether to be given credit\, how much\, and at what interest rate. \n\nThis workshop gives a comprehensive understanding of business and personal scores and reports.  Attendee will leave equipped with useful information and tools on how to better manage and protect credit reputation and potential. Nabil Captan presents this workshop.
X-ALT-DESC;FMTTYPE=text/html:Financial institutions place a different value on credit scores when considering an extension of business credit.<br />\nAccess to credit with reasonable cost is vital to business success. Credit score is only one aspect in the approval process. However\, scores will determine whether to be given credit\, how much\, and at what interest rate.&nbsp\;<br />\nThis workshop gives a comprehensive understanding of business and personal scores and reports. &nbsp\;Attendee will leave equipped with useful information and tools on how to better manage and protect credit reputation and potential. Nabil Captan&nbsp\;presents this workshop.&nbsp\;
LOCATION:Clifton C. Miller Community Center 300 Centennial Way Tustin\, CA 92780
UID:e.887.16148
SEQUENCE:3
DTSTAMP:20260421T051321Z
URL:https://nocchamber-gzcms.preview.gochambermaster.com/events/details/score-workshop-the-road-to-business-credit-16148
END:VEVENT

END:VCALENDAR
