BEGIN:VCALENDAR
VERSION:2.0
PRODID:-//ChamberMaster//Event Calendar 2.0//EN
METHOD:PUBLISH
X-PUBLISHED-TTL:P3D
REFRESH-INTERVAL:P3D
CALSCALE:GREGORIAN
BEGIN:VEVENT
DTSTART:20181012T010000Z
DTEND:20181012T040000Z
X-MICROSOFT-CDO-ALLDAYEVENT:FALSE
SUMMARY:SCORE Workshop - Small Business Succession Planning
DESCRIPTION:SCORE will be hosting a Small Business Succession Planning workshop:\n\n	Planning for action items\n	Assets and stock sales\n	Business broker and investment banker\n	ESOP   Employee Stock Ownership Plan\n	Tax\, planning\, legal and financial issues\n	Due diligence\n	Investment planning for income after sale
X-ALT-DESC;FMTTYPE=text/html:SCORE will be hosting a Small Business Succession Planning workshop:\n<ul>\n	<li>Planning for action items</li>\n	<li>Assets and stock sales</li>\n	<li>Business broker and investment banker</li>\n	<li>ESOP &ndash\; Employee Stock Ownership Plan</li>\n	<li>Tax\, planning\, legal and financial issues</li>\n	<li>Due diligence</li>\n	<li>Investment planning for income after sale</li>\n</ul>\n
LOCATION:Fullerton Public Library Main Branch 353 W. Commonwealth Ave. Fullerton\, CA 92832
UID:e.887.22773
SEQUENCE:3
DTSTAMP:20260422T220730Z
URL:https://nocchamber-gzcms.preview.gochambermaster.com/events/details/score-workshop-small-business-succession-planning-22773
END:VEVENT

END:VCALENDAR
