BEGIN:VCALENDAR
VERSION:2.0
PRODID:-//ChamberMaster//Event Calendar 2.0//EN
METHOD:PUBLISH
X-PUBLISHED-TTL:P3D
REFRESH-INTERVAL:P3D
CALSCALE:GREGORIAN
BEGIN:VEVENT
DTSTART:20170511T003000Z
DTEND:20170511T033000Z
X-MICROSOFT-CDO-ALLDAYEVENT:FALSE
SUMMARY:SCORE Workshop - Secrets To Buying A Franchise
DESCRIPTION:In this workshop\, you will learn how to evaluate starting a franchise vs. an independent business vs. buying an existing business\; the best types of franchises to open in today's economy\; the myths about franchising\; the costs to start a franchise\; how to research a franchise to make sure it's the right choice\; how to decide which franchises are best for you\; what mistakes to avoid when choosing and researching a franchise\; negotiation issues\; California laws & common issues\; legal documents\, e.g. disclosure document and franchise agreement.
X-ALT-DESC;FMTTYPE=text/html:In this workshop\, you will learn how to evaluate starting a franchise vs. an independent business vs. buying an existing business\; the best types of franchises to open in today&#39\;s economy\; the myths about franchising\; the costs to start a franchise\; how to research a franchise to make sure it&#39\;s the right choice\; how to decide which franchises are best for you\; what mistakes to avoid when choosing and researching a franchise\; negotiation issues\; California laws &amp\; common issues\; legal documents\, e.g. disclosure document and franchise agreement.
LOCATION:La Habra Community Center 101 W La Habra Blvd. La Habra\, CA 90631
UID:e.887.16124
SEQUENCE:3
DTSTAMP:20260421T033319Z
URL:https://nocchamber-gzcms.preview.gochambermaster.com/events/details/score-workshop-secrets-to-buying-a-franchise-16124
END:VEVENT

END:VCALENDAR
