BEGIN:VCALENDAR
VERSION:2.0
PRODID:-//ChamberMaster//Event Calendar 2.0//EN
METHOD:PUBLISH
X-PUBLISHED-TTL:P3D
REFRESH-INTERVAL:P3D
CALSCALE:GREGORIAN
BEGIN:VEVENT
DTSTART:20160908T003000Z
DTEND:20160908T040000Z
X-MICROSOFT-CDO-ALLDAYEVENT:FALSE
SUMMARY:SCORE Workshop "Secrets To Buying A Franchise"
DESCRIPTION:In this workshop\, you will learn:\n\n	How to evaluate starting a franchise vs. an independent business vs. buying an existing business\n	The best types of franchises to open in today's economy\n	The myths about franchising\n	The costs to start a franchise\n	How to research a franchise to make sure it's the right choice\n	How to decide which franchises are best for you\n	What mistakes to avoid when choosing and researching a franchise\n	Negotiation issues\n	California laws & common issues\n	Legal documents\, e.g. disclosure document and franchise agreement\n\n \n\nPage Nicol of FranNet & Richard Usher of Furman Usher\, Inc. presents this workshop.  \n\n\n\n Please Click Here to Pre-register
X-ALT-DESC;FMTTYPE=text/html:In this workshop\, you will learn:\n<ul>\n	<li>How to evaluate starting a franchise vs. an independent business vs. buying an existing business</li>\n	<li>The best types of franchises to open in today&#39\;s economy</li>\n	<li>The myths about franchising</li>\n	<li>The costs to start a franchise</li>\n	<li>How to research a franchise to make sure it&#39\;s the right choice</li>\n	<li>How to decide which franchises are best for you</li>\n	<li>What mistakes to avoid when choosing and researching a franchise</li>\n	<li>Negotiation issues</li>\n	<li>California laws &amp\; common issues</li>\n	<li>Legal documents\, e.g. disclosure document and franchise agreement</li>\n</ul>\n&nbsp\;<br />\nPage Nicol of FranNet &amp\; Richard Usher of Furman Usher\, Inc. presents this workshop. &nbsp\;<br />\n<br />\n<span style="line-height: 20.8px\;">&#8203\;</span><span style="line-height: 20.8px\;">Please&nbsp\;</span><a href="http://r20.rs6.net/tn.jsp?f=0012jG9jZO3obw2LpjpbY7UZ9I4UovGVdvMDPWTD0KsR0zg6DSRsOx04x5tajEnEYc9KZc49Cb26AjE1VNd8FySF53AD1hBt51yCMwQSsfHfZa6HApUs_WkdTHnIzApc9LoKwcfwdIqCHi_2F-SOSw-AAdPaP__-e6OhTo-KonriN9bnWDgI7SD0pGCrPPOl9ZO7E1FHVIdmo0=&amp\;c=mFtbAqa8TTWwWxukm7lPyrUHh71iYtP_aVQrsP_K83A78jaDDbarmg==&amp\;ch=AreXCqMCz4xPi7csfDSpUWImKgFLEtBNX1tcTLr6yOhB7Yjf8XvYUw==" style="line-height: 20.8px\;" target="_blank">Click Here</a><span style="line-height: 20.8px\;">&nbsp\;to Pre-register</span>
LOCATION:Brea Chamber of Commerce 1 Civic Center Cir #2 Brea\, CA 92821
UID:e.887.14796
SEQUENCE:3
DTSTAMP:20260422T100905Z
URL:https://nocchamber-gzcms.preview.gochambermaster.com/events/details/score-workshop-secrets-to-buying-a-franchise-14796
END:VEVENT

END:VCALENDAR
