BEGIN:VCALENDAR
VERSION:2.0
PRODID:-//ChamberMaster//Event Calendar 2.0//EN
METHOD:PUBLISH
X-PUBLISHED-TTL:P3D
REFRESH-INTERVAL:P3D
CALSCALE:GREGORIAN
BEGIN:VEVENT
DTSTART:20180411T010000Z
DTEND:20180411T040000Z
X-MICROSOFT-CDO-ALLDAYEVENT:FALSE
SUMMARY:SCORE Workshop - Preparing To Lease Space For Your Business
DESCRIPTION:Do you plan to open an office\, a store\, a restaurant\, a yoga or massage studio\, apparel\, etc. but are nervous about the prospect of leasing a space?  For any entrepreneur contemplating the "where" of your operation\, this is the workshop to take before you sign a lease.\n\nLeasing Space for Your Business focuses fully on the leasing process. It encompasses some of the trickier elements involved by covering basic leasing information to advanced vocabulary. This highly informative workshop also discusses ways to use the variety of opportunities available today:  temporary\, permanent\, pop-ups\, kiosks and carts.   Equally important\, it will help prepare you to find the best location for your business.\n\n \n\nWhat You Will Learn\n\n  What documents you need before approaching a landlord or broker\n\n  The different types of real estate brokers and their expertise how do they get paid\n\n  The advantages of leasing in a mall vs. those offered by a neighborhood center\, short term leases vs. long term leases\n\n  How to protect your business before signing a lease\n\n  Ways to protect your assets should you need to end a lease early\n\n \n\nPresenter: Carmen Hall\n\nCarmen Hall founded Golden Rule Resources\, a commercial real estate brokerage whose primary focus is tenant representation. In the past seven years\, the company has represented clients leasing space in super regional malls\, industrial parks\, street retail\, and neighborhood and community centers across the country.
X-ALT-DESC;FMTTYPE=text/html:<p>Do you plan to open an office\, a store\, a restaurant\, a yoga or massage studio\, apparel\, etc. but are nervous about the prospect of leasing a space?&nbsp\; For any entrepreneur contemplating the &ldquo\;where&rdquo\; of your operation\, this is the workshop to take before you sign a lease.</p>\n\n<div>Leasing Space for Your Business focuses fully on the leasing process.&nbsp\;It encompasses some of the trickier elements involved by covering basic leasing information to advanced vocabulary. This highly informative workshop also discusses ways to use the variety of opportunities available today:&nbsp\; temporary\, permanent\, pop-ups\, kiosks and carts.&nbsp\; &nbsp\;Equally important\, it will help prepare you to find the best location for your business.<br />\n&nbsp\;</div>\n\n<div>What You Will Learn</div>\n\n<div>&bull\; What documents you need before approaching a landlord or broker</div>\n\n<div>&bull\;&nbsp\;The different types of real estate brokers and their expertise how do they get paid</div>\n\n<div>&bull\; The advantages of leasing in a mall vs. those offered by a neighborhood center\, short term leases vs. long term leases</div>\n\n<div>&bull\;&nbsp\;How to protect your business before signing a lease</div>\n\n<div>&bull\;&nbsp\;Ways to protect your assets should you need to end a lease early<br />\n&nbsp\;</div>\n\n<div>Presenter:&nbsp\;Carmen Hall</div>\n\n<div>Carmen Hall founded Golden Rule Resources\, a commercial real estate brokerage whose primary focus is tenant representation. In the past seven years\, the company has represented clients leasing space in super regional malls\, industrial parks\, street retail\, and neighborhood and community centers across the country.</div>\n
LOCATION:Garden Grove Community Center(VM Z. Smith) 11300 Stanford Ave. Room B Garden Grove\, CA 92840
UID:e.887.21273
SEQUENCE:3
DTSTAMP:20260422T000703Z
URL:https://nocchamber-gzcms.preview.gochambermaster.com/events/details/score-workshop-preparing-to-lease-space-for-your-business-21273
END:VEVENT

END:VCALENDAR
