BEGIN:VCALENDAR
VERSION:2.0
PRODID:-//ChamberMaster//Event Calendar 2.0//EN
METHOD:PUBLISH
X-PUBLISHED-TTL:P3D
REFRESH-INTERVAL:P3D
CALSCALE:GREGORIAN
BEGIN:VEVENT
DTSTART:20170113T020000Z
DTEND:20170113T050000Z
X-MICROSOFT-CDO-ALLDAYEVENT:FALSE
SUMMARY:SCORE Workshop: Overcoming Stalled Sales - How to Develop a Sales Strategy for Your Company
DESCRIPTION:This is not a workshop on "how to sell" but instead\, a workshop on how to target\, position and organize your company in a way that will help you increase sales and grow your organization. Terry Chambless will present this seminar and has over 30 years of experience in sales and sales management.
X-ALT-DESC;FMTTYPE=text/html:This is not a workshop on &quot\;how to sell&quot\; but instead\, a workshop on how to target\, position and organize your company in a way that will help you increase sales and grow your organization. Terry Chambless will present this seminar and has over 30 years of experience in sales and sales management.<br />\n<br />\n&nbsp\;
LOCATION:Fullerton Public Library 353 West Commonwealth Avenue Fullerton\, CA 92832
UID:e.887.15620
SEQUENCE:3
DTSTAMP:20260421T235716Z
URL:https://nocchamber-gzcms.preview.gochambermaster.com/events/details/score-workshop-overcoming-stalled-sales-how-to-develop-a-sales-strategy-for-your-company-15620
END:VEVENT

END:VCALENDAR
