BEGIN:VCALENDAR
VERSION:2.0
PRODID:-//ChamberMaster//Event Calendar 2.0//EN
METHOD:PUBLISH
X-PUBLISHED-TTL:P3D
REFRESH-INTERVAL:P3D
CALSCALE:GREGORIAN
BEGIN:VEVENT
DTSTART:20170428T010000Z
DTEND:20170428T040000Z
X-MICROSOFT-CDO-ALLDAYEVENT:FALSE
SUMMARY:SCORE Workshop Introduction Windows 10
DESCRIPTION:Meet Windows 10 - Windows 10 is the latest in a series of operating systems by Microsoft. Windows powers approximately 90% of the world's personal computers and Windows 10 seems to me the most capable and highest rated version to date. This three-hour seminar will introduce you to Windows 10\, show you how to install and set it up and show you how to use many of its new and highly acclaimed features.\n\n \n\nDan Feinberg presents this workshop. Dan has been a "techie" since he was a teenager. As a volunteer he teaches computer use to seniors\; as a hobby he builds extreme computers. Dan is President and CEO of Fein-Line Associates\, Inc.\, a consulting firm focused on the electronic interconnect and assembly industries and also a founding Partner in the Quantum Performance Group\, LLC\, a market research firm.  He formerly was president of Morton Electronic Materials\, a $220 million division of Morton International\, Inc.  He has authored numerous articles\, presented papers at various industry events\, and taught tutorials.  Dan writes a monthly column for CircuiTree magazine.
X-ALT-DESC;FMTTYPE=text/html:<div style="clear:both\;">Meet Windows 10&nbsp\;- Windows 10 is the latest in a series of operating systems by Microsoft. Windows powers approximately 90% of the world&#39\;s personal computers and Windows 10 seems to me the most capable and highest rated version to date. This three-hour seminar will introduce you to Windows 10\, show you how to install and set it up and show you how to use many of its new and highly acclaimed features.<br />\n&nbsp\;<br />\nDan Feinberg&nbsp\;presents this workshop. Dan has been a &quot\;techie&quot\; since he was a teenager. As a volunteer he teaches computer use to seniors\; as a hobby he builds extreme computers. Dan is President and CEO of Fein-Line Associates\, Inc.\, a consulting firm focused on the electronic interconnect and assembly industries and also a founding Partner in the Quantum Performance Group\, LLC\, a market research firm. &nbsp\;He formerly was president of Morton Electronic Materials\, a $220 million division of Morton International\, Inc. &nbsp\;He has authored numerous articles\, presented papers at various industry events\, and taught tutorials. &nbsp\;Dan writes a monthly column for&nbsp\;CircuiTree&nbsp\;magazine.<br />\n&nbsp\;</div>\n
LOCATION:Digital Media Center 1300 S Bristol Santa Ana\, CA 92704
UID:e.887.16046
SEQUENCE:3
DTSTAMP:20260421T120706Z
URL:https://nocchamber-gzcms.preview.gochambermaster.com/events/details/score-workshop-introduction-windows-10-16046
END:VEVENT

END:VCALENDAR
